{"text_format":"1","workbook":"xlsx","n_sheets":19,"sheets":["Plano","Dívida","Projeções","Parâmetros","Metas","MetasRPPS","Metas PREF "," Avaliação","Comparação"," Patrimônio"," Alienação","RPPS-Financeiro","RPPS-Atuarial","Renúncia","DOCC","DOCC(alternativa)","Anexo Riscos","Anexo III - Metas e Prioridades","Anexo IV - Consdo Patrimônio"],"not_rendered":{"charts":0,"images":2,"macros":1,"external_links":0,"defined_names":16,"comments":0,"pivot_tables":0},"unopened":[],"bounds":{"document_bytes":16777216,"sheet_cells":100000,"rows_first":2000,"rows_last":500,"rows_between":2000,"halvings":0,"cell_chars":16384,"cell_head_chars":4096},"cells_cut":0,"cells_raw":0,"read":"whole","date_system":"1900"}

{"sheet":"Plano","index":0,"n_rows":66,"n_cols":6,"rows_kept":66,"cut":false,"hidden":false,"merged":[]}
["CÓDIGO","DESCRIÇÃO",2013,{"$f":"C1+1","v":2014},{"$f":"D1+1","v":2015},{"$f":"E1+1","v":2016}]
[null,null,"Arrecadado","Arrecadado","Arrecadado","Reestimado"]
["1.0.0.0.00.00.00.00","RECEITAS CORRENTES",{"$f":"C4+C5+C8+C13+C14+C15+C16+C17","v":17509131.359999999},{"$f":"D4+D5+D8+D13+D14+D15+D16+D17","v":19919077.129999999},{"$f":"E4+E5+E8+E13+E14+E15+E16+E17","v":20153956.949999999},{"$f":"F4+F5+F8+F13+F14+F15+F16+F17","v":21796200}]
["1.1.0.0.00.00.00.00","RECEITA TRIBUTARIA",1030259.59,1159615.77,1240263.45,1359000]
["1.2.0.0.00.00.00.00","RECEITA DE CONTRIBUICOES",{"$f":"C6+C7","v":492452.81},{"$f":"D6+D7","v":554692.61},{"$f":"E6+E7","v":631442.43999999994},{"$f":"F6+F7","v":680000}]
["1.2.0.0.00.00.00.00","Receitas de Contribuições -   P M",105048.49,115744.45,165189.76999999999,180000]
["1.2.0.0.0.0.0.0.0.0.0","Receita de Contribuições  -  R P P S  ",387404.32,438948.16,466252.67,500000]
["1.3.0.0.00.00.00.00","RECEITA PATRIMONIAL",{"$f":"C9+C12","v":537867.23},{"$f":"D9+D12","v":1560100.69},{"$f":"E9+E12","v":1288660.93},{"$f":"F9+F12","v":950400}]
["1.3.2.0.00.00.00.00","Rendimentos de Aplicações Financeiras",{"$f":"C10+C11","v":537867.23},{"$f":"D10+D11","v":1560100.69},{"$f":"E10+E11","v":1287675.4099999999},{"$f":"F10+F11","v":949400}]
["1.3.2.0.00.00.00.00","Rendimentos de Aplicações - PM",33066.400000000001,138715.45000000001,78511.210000000006,49400]
["1.3.2.0.00.00.00.00","Rendimentos de Aplicações - RPPS ",504800.83,1421385.24,1209164.2,900000]
["1.3.9.0.00.00.00.00","Outras Receitas Patrimoniais",null,null,985.52,1000]
["1.4.0.0.00.00.00.00","RECEITA AGROPECUARIA"]
["1.5.0.0.00.00.00.00","RECEITA INDUSTRIAL"]
["1.6.0.0.00.00.00.00","RECEITA DE SERVICOS",302734.03999999998,465242.31,463558.81,530000]
["1.7.0.0.00.00.00.00","TRANSFERENCIAS CORRENTES",14987703.15,15824970.390000001,16348632.51,18086000]
["1.9.0.0.00.00.00.00","OUTRAS RECEITAS CORRENTES",{"$f":"C18+C19","v":158114.54},{"$f":"D18+D19","v":354455.36},{"$f":"E18+E19","v":181398.81},{"$f":"F18+F19","v":190800}]
["1.9.0.0.00.00.00.00","Outras Receitas Correntes -  P M",158114.54,162691.1,120956.14,130800]
["1.9.0.0.00.00.00.00","Outras Receitas Correntes - R P P S ",null,191764.26,60442.67,60000]
["2.0.0.0.00.00.00.00","RECEITAS DE CAPITAL",{"$f":"C21+C22+C23+C24+C25","v":1605771.58},{"$f":"D21+D22+D23+D24+D25","v":1891348.56},{"$f":"E21+E22+E23+E24+E25","v":2062478.6},{"$f":"F21+F22+F23+F24+F25","v":1810000}]
["2.1.0.0.00.00.00.00","OPERACOES DE CREDITO",null,null,null,560000]
["2.2.0.0.00.00.00.00","ALIENACAO DE BENS",null,218220,73000,100000]
["2.3.0.0.00.00.00.00","AMORTIZACAO DE EMPRESTIMOS"]
["2.4.0.0.00.00.00.00","TRANSFERENCIAS DE CAPITAL",1605771.58,1673128.56,1989478.6,1150000]
["2.5.0.0.00.00.00.00","OUTRAS RECEITAS DE CAPITAL"]
["7.2.1.0.00.00.00.00","Receitas Intra Orçamentárias - RPPS ",877002.32,1053918.55,1182049.22,1300000]
["9.0.0.0.00.00.00.00","( - ) DEDUÇÕES DA RECEITA",-3944135.34,-2806681.84,-2921854.99,-2766200]
[]
[null,"TOTAL DA RECEITA",{"$f":"C3+C20+C26+C27","v":16047769.919999998},{"$f":"D3+D20+D26+D27","v":20057662.399999999},{"$f":"E3+E20+E26+E27","v":20476629.780000001},{"$f":"F3+F20+F26+F27","v":22140000}]
[]
["CÓDIGO","DESCRIÇÃO",2013,{"$f":"C31+1","v":2014},{"$f":"D31+1","v":2015},{"$f":"E31+1","v":2016}]
[null,null,"Liquidado","Liquidado","Liquidado","Reestimado"]
["3.0.00.00.00.00.00","DESPESAS CORRENTES",{"$f":"C34+C37+C40","v":13190424.93},{"$f":"D34+D37+D40","v":15247148.950000001},{"$f":"E34+E37+E40","v":16026185.6},{"$f":"F34+F37+F40","v":18089000}]
["3.1.00.00.00.00.00","PESSOAL E ENCARGOS SOCIAIS",{"$f":"C35+C36","v":6312865.6299999999},{"$f":"D35+D36","v":7484629.5300000003},{"$f":"E35+E36","v":7505879.2400000002},{"$f":"F35+F36","v":8346000}]
["3.1.00.00.00.00.00","Pessoal  Próprio",6312865.6299999999,7484629.5300000003,7505879.2400000002,8326000]
["3.1.00.00.00.00.00","Pessoal  do  R P P S  ",null,null,null,20000]
["3.2.00.00.00.00.00","JUROS E ENCARGOS DA DÍVIDA",{"$f":"C38+C39","v":181306.56},{"$f":"D38+D39","v":104020.53},{"$f":"E38+E39","v":48779.41},{"$f":"F38+F39","v":100000}]
["3.2.00.00.00.00.00","Juros e Encargos da Dívida",181306.56,104020.53,48779.41,100000]
["3.2.00.00.00.00.00","Juros e encargos da Dívida RPPS  "]
["3.3.00.00.00.00.00","OUTRAS DESPESAS CORRENTES",{"$f":"C41+C42","v":6696252.7400000002},{"$f":"D41+D42","v":7658498.8900000006},{"$f":"E41+E42","v":8471526.9499999993},{"$f":"F41+F42","v":9643000}]
["3.3.00.00.00.00.00","Outras Despesas Correntes",5770144.79,6558559.8600000003,7044944.3499999996,8028000]
["3.3.00.00.00.00.00","Outras Despesas Corrente  RPPS ",926107.95,1099939.03,1426582.6,1615000]
["4.0.00.00.00.00.00","DESPESAS DE CAPITAL",{"$f":"C44+C47+C50","v":1855835.9699999997},{"$f":"D44+D47+D50","v":2994994.55},{"$f":"E44+E47+E50","v":4201189.75},{"$f":"F44+F47+F50","v":3121000}]
["4.4.00.00.00.00.00","INVESTIMENTOS",{"$f":"C45+C46","v":1001672.72},{"$f":"D45+D46","v":1799284.05},{"$f":"E45+E46","v":3136625.33},{"$f":"F45+F46","v":2420000}]
["4.4.00.00.00.00.00","Invetimentos",1001672.72,1799284.05,3136625.33,2420000]
["4.4.00.00.00.00.00","Invetimentos  RPPS  "]
["4.5.00.00.00.00.00","INVERSÕES FINANCEIRAS",{"$f":"C48+C49","v":49527.13},{"$f":"D48+D49","v":223392.03},{"$f":"E48+E49","v":173424.12},{"$f":"F48+F49","v":25000}]
["4.5.90.66.00.00.00","Concessão de Empréstimos e Financiamentos"]
["4.5.90.99.00.00.00","Outras inversões Financeiras",49527.13,223392.03,173424.12,25000]
["4.6.00.00.00.00.00","AMORTIZAÇÃO DA DÍVIDA PÚBLICA",804636.12,972318.47,891140.3,676000]
[]
["9.9.99.99.99.99.01","RESERVA DE CONTINGÊNCIA",null,null,null,5000]
["9.9.99.99.99.99.02","RESERVA DE CONTINGÊNCIA DO RPPS",null,null,null,925000]
[]
[null,"TOTAL DA DESPESA",{"$f":"C33+C43","v":15046260.899999999},{"$f":"D33+D43","v":18242143.5},{"$f":"E33+E43","v":20227375.350000001},{"$f":"F33+F43+F52+F53","v":22140000}]
[]
[null,"PREVISÕES DA LEI DE ORÇAMENTO",2013,{"$f":"C57+1","v":2014},{"$f":"D57+1","v":2015},{"$f":"E57+1","v":2016}]
[null,"Receita Prevista (já deduzido o FUNDEB)",16500000,20750000,24835000,22140000]
[null,"Rendimento de Aplicações Financeiras",756200,660600,867800,950400]
[null,"Receita de Operações de Crédito",5000,10000,1000000,500000]
[null,"Receita de Alienação de Bens",null,100000,150000,100000]
[null,"Receita de Amort.de Empréstimos Concedidos"]
[null,"Despesa Fixada (cfe lei de orçamento)",{"$f":"C58","v":16500000},{"$f":"D58","v":20750000},{"$f":"E58","v":24835000},{"$f":"F58","v":22140000}]
[null,"Juros e Encargos da Dívida",200000,170000,100000,100000]
[null,"Amortização da Dívida",750000,900000,853000,676000]
[null,"Concessão de Empréstimos"]

{"sheet":"Dívida","index":1,"n_rows":20,"n_cols":7,"rows_kept":20,"cut":false,"hidden":false,"merged":[[20,0,20,6],[14,0,15,0],[0,0,0,9],[1,0,1,9],[2,0,2,9],[4,0,5,0]]}
[{"$f":"Parâmetros!A7","v":"Município de : Paverama"}]
["LEI DE DIRETRIZES ORÇAMENTÁRIAS PARA 2017"]
["TABELA 02 - Demonstraitvo da Evolução da Dívida e Resultado Nominal"]
[]
["Exercício",2014,{"$f":"B5+1","v":2015},{"$f":"C5+1","v":2016},{"$f":"D5+1","v":2017},{"$f":"E5+1","v":2018},{"$f":"F5+1","v":2019}]
[null,"Saldo","Saldo","Reestimativa","Previsão","Previsão","Previsão"]
[" (1) Dívida Consolidada ",555053.12,189610,744000,525000,1050000,700000]
["(2)  Disponibilidades Financeiras (Líquidas)",1484372.53,1710910.02,1200000,{"$f":"(B8+C8+D8)/3","v":1465094.1833333333},{"$f":"(C8+D8+E8)/3","v":1458668.0677777778},{"$f":"(D8+E8+F8)/3","v":1374587.4170370372}]
["(3) Dívida Consolidada Líquida",-929319.41,-1521300.02,-456000,{"$f":"E7-E8","v":-940094.18333333335},{"$f":"F7-F8","v":-408668.06777777779},{"$f":"G7-G8","v":-674587.4170370372}]
["(4) Passivos Reconhecidos"]
["(5) Dívida Fiscal Líquida",{"$f":"B9-B10","v":-929319.41},-1521300.02,-456000,-940094.18333333335,-408668.06777777779,-674587.4170370372]
["(6) Resultado Nominal",-924823.07,-328564.23,-244520,{"$f":"E11-D11","v":-484094.18333333335},{"$f":"F11-E11","v":531426.11555555556},{"$f":"G11-F11","v":-265919.34925925941}]
[]
["Cronograma Anual de Operações Realizadas e do Serviço da Dívida",null,null,null,null,null,"Valores em R$"]
["Operações de Crédito / Pagamentos ",2014,{"$f":"B15+1","v":2015},{"$f":"C15+1","v":2016},{"$f":"D15+1","v":2017},{"$f":"E15+1","v":2018},{"$f":"F15+1","v":2019}]
[null,"Realizado","Realizado","Reestimativa","Previsão","Previsão","Previsão"]
["2.1 - Operações de Crédito",{"$f":"Plano!D21","v":0},{"$f":"Plano!E21","v":0},700000,null,700000]
["2.2 Encargos ",{"$f":"Plano!D37","v":104020.53},{"$f":"Plano!E37","v":48779.41},{"$f":"Plano!F37","v":100000},{"$f":"Projeções!G44","v":117985.413},{"$f":"Projeções!H44","v":136797.32816904335},{"$f":"Projeções!I44","v":157705.5467161556}]
["2.3 Amortizações",{"$f":"Plano!D50","v":972318.47},{"$f":"Plano!E50","v":891140.3},450000,175000,350000,350000]
[" 2.2.3 Dívida Mobiliária"]

{"sheet":"Projeções","index":2,"n_rows":84,"n_cols":10,"rows_kept":84,"cut":false,"hidden":false,"merged":[]}
[{"$f":"Parâmetros!A7","v":"Município de : Paverama"},"PAVERAMA"]
["MEMÓRIA DE CÁLCULO DAS RECEITAS E DESPESAS - LDO PARA  2016"]
[]
[]
[null,null,null,null,null,null,null,null,"Valores em R$ 1,00"]
["CÓDIGOS","CONTAS","ARRECADADA","ARRECADADA","ARRECADADA","REESTIMADO","PROJETADO","PROJETADO","PROJETADO","PROJETADO"]
[null,"CONSOLIDADAS ANUAIS",2013,{"$f":"C7+1","v":2014},2015,2016,2017,2018,2019,2005]
[]
["1.0.0.0.00.00.00.00","RECEITAS CORRENTES",{"$f":"Plano!C3","v":17509131.359999999},{"$f":"Plano!D3","v":19919077.129999999},{"$f":"Plano!E3","v":20153956.949999999},{"$f":"Plano!F3","v":21796200},{"$f":"IF(G23=0,\"-\",(G10+G11+G14+G19+G20+G21+G22+G23))","v":24240643.794677999},{"$f":"IF(H23=0,\"-\",(H10+H11+H14+H19+H20+H21+H22+H23))","v":26312046.448151015},{"$f":"IF(I23=0,\"-\",(I10+I11+I14+I19+I20+I21+I22+I23))","v":28943353.323376521}]
["1.1.0.0.00.00.00.00","RECEITA TRIBUTARIA",{"$f":"Plano!C4","v":1030259.59},{"$f":"Plano!D4","v":1159615.77},{"$f":"Plano!E4","v":1240263.45},{"$f":"Plano!F4","v":1359000},1704129.43,{"$f":"IF(G10=0,\"-\",(G10*(1+Parâmetros!F11)*(1+Parâmetros!F12)*(1+Parâmetros!F15)))","v":1884891.6092054003},{"$f":"IF(H10=0,\"-\",(H10*(1+Parâmetros!G11)*(1+Parâmetros!G12)*(1+Parâmetros!G15)))","v":2104820.9114884143}]
["1.2.0.0.00.00.00.00","RECEITA DE CONTRIBUICOES",{"$f":"Plano!C5","v":492452.81},{"$f":"Plano!D5","v":554692.61},{"$f":"Plano!E5","v":631442.43999999994},{"$f":"Plano!F5","v":680000},{"$f":"G12+G13","v":761437.56780000008},{"$f":"H12+H13","v":838911.63688088721},{"$f":"I12+I13","v":923158.67661054246}]
["1.2.0.0.00.00.00.00","Receitas de Contribuições -   P M",{"$f":"Plano!C6","v":105048.49},{"$f":"Plano!D6","v":115744.45},{"$f":"Plano!E6","v":165189.76999999999},{"$f":"Plano!F6","v":180000},{"$f":"F12*(1+Parâmetros!E11)*(1+Parâmetros!E12)","v":192223.56780000002},{"$f":"G12*(1+Parâmetros!F11)*(1+Parâmetros!F12)","v":206160.83177288721},{"$f":"H12*(1+Parâmetros!G11)*(1+Parâmetros!G12)","v":221053.32125626487}]
["1.2.0.0.00.00.00.00","Receita de Contribuições  -  R P P S",{"$f":"Plano!C7","v":387404.32},{"$f":"Plano!D7","v":438948.16},{"$f":"Plano!E7","v":466252.67},{"$f":"Plano!F7","v":500000},{"$f":"F13*(1+Parâmetros!E11)*(1+Parâmetros!E17)","v":569214},{"$f":"G13*(1+Parâmetros!F11)*(1+Parâmetros!F17)","v":632750.80510799994},{"$f":"H13*(1+Parâmetros!G11)*(1+Parâmetros!G17)","v":702105.35535427765}]
["1.3.0.0.00.00.00.00","RECEITA PATRIMONIAL",{"$f":"Plano!C8","v":537867.23},{"$f":"Plano!D8","v":1560100.69},{"$f":"Plano!E8","v":1288660.93},{"$f":"Plano!F8","v":950400},{"$f":"G15+G18","v":1001830.44871},{"$f":"H15+H18","v":1050645.0136522937},{"$f":"I15+I18","v":1099844.3345276457}]
["1.3.2.0.00.00.00.00","Rendimentos de Aplicações Financeiras",{"$f":"Plano!C9","v":537867.23},{"$f":"Plano!D9","v":1560100.69},{"$f":"Plano!E9","v":1287675.4099999999},{"$f":"Plano!F9","v":949400},{"$f":"G16+G17","v":1000762.54},{"$f":"H16+H17","v":1049499.675698},{"$f":"I16+I17","v":1098616.2605206664}]
["1.3.2.0.00.00.00.00","Rendimentos de Aplicações - PM",{"$f":"Plano!C10","v":33066.400000000001},{"$f":"Plano!D10","v":138715.45000000001},{"$f":"Plano!E10","v":78511.210000000006},{"$f":"Plano!F10","v":49400},{"$f":"F16*(1+Parâmetros!E11)","v":52072.54},{"$f":"G16*(1+Parâmetros!F11)","v":54608.472697999998},{"$f":"H16*(1+Parâmetros!G11)","v":57164.149220266394}]
["1.3.2.0.00.00.00.00","Rendimentos de Aplicações - RPPS ",{"$f":"Plano!C11","v":504800.83},{"$f":"Plano!D11","v":1421385.24},{"$f":"Plano!E11","v":1209164.2},{"$f":"Plano!F11","v":900000},{"$f":"F17*(1+Parâmetros!E11)","v":948690},{"$f":"G17*(1+Parâmetros!F11)","v":994891.20299999998},{"$f":"H17*(1+Parâmetros!G11)","v":1041452.1113003999}]
["1.3.9.0.00.00.00.00","Outras Receitas Patrimoniais",{"$f":"Plano!C12","v":0},{"$f":"Plano!D12","v":0},{"$f":"Plano!E12","v":985.52},{"$f":"Plano!F12","v":1000},{"$f":"F18*(1+Parâmetros!E11)*(1+Parâmetros!E12)","v":1067.9087100000002},{"$f":"G18*(1+Parâmetros!F11)*(1+Parâmetros!F12)","v":1145.337954293818},{"$f":"H18*(1+Parâmetros!G11)*(1+Parâmetros!G12)","v":1228.0740069792496}]
["1.4.0.0.00.00.00.00","RECEITA AGROPECUARIA",{"$f":"Plano!C13","v":0},{"$f":"Plano!D13","v":0},{"$f":"Plano!E13","v":0},{"$f":"Plano!F13","v":0},{"$f":"F19*(1+Parâmetros!E11)*(1+Parâmetros!E12)","v":0},{"$f":"G19*(1+Parâmetros!F11)*(1+Parâmetros!F12)","v":0},{"$f":"H19*(1+Parâmetros!G11)*(1+Parâmetros!G12)","v":0}]
["1.5.0.0.00.00.00.00","RECEITA INDUSTRIAL",{"$f":"Plano!C14","v":0},{"$f":"Plano!D14","v":0},{"$f":"Plano!E14","v":0},{"$f":"Plano!F14","v":0},{"$f":"F20*(1+Parâmetros!E11)*(1+Parâmetros!E12)","v":0},{"$f":"G20*(1+Parâmetros!F11)*(1+Parâmetros!F12)","v":0},{"$f":"H20*(1+Parâmetros!G11)*(1+Parâmetros!G12)","v":0}]
["1.6.0.0.00.00.00.00","RECEITA DE SERVICOS",{"$f":"Plano!C15","v":302734.03999999998},{"$f":"Plano!D15","v":465242.31},{"$f":"Plano!E15","v":463558.81},{"$f":"Plano!F15","v":530000},{"$f":"F21*(1+Parâmetros!E11)*(1+Parâmetros!E12)","v":565991.61630000011},{"$f":"G21*(1+Parâmetros!F11)*(1+Parâmetros!F12)","v":607029.11577572348},{"$f":"H21*(1+Parâmetros!G11)*(1+Parâmetros!G12)","v":650879.22369900218}]
["1.7.0.0.00.00.00.00","TRANSFERENCIAS CORRENTES",{"$f":"Plano!C16","v":14987703.15},{"$f":"Plano!D16","v":15824970.390000001},{"$f":"Plano!E16","v":16348632.51},{"$f":"Plano!F16","v":18086000},20003497.75,{"$f":"IF(G22=0,\"-\",(G22*(1+Parâmetros!F11)*(1+Parâmetros!F12)*(1+Parâmetros!F16)))","v":21712038.590957452},{"$f":"IF(H22=0,\"-\",(H22*(1+Parâmetros!G11)*(1+Parâmetros!G12)*(1+Parâmetros!G16)))","v":23930333.656519279}]
["1.9.0.0.00.00.00.00","OUTRAS RECEITAS CORRENTES",{"$f":"Plano!C17","v":158114.54},{"$f":"Plano!D17","v":354455.36},{"$f":"Plano!E17","v":181398.81},{"$f":"Plano!F17","v":190800},{"$f":"G24+G25","v":203756.981868},{"$f":"H24+H25","v":218530.48167926044},{"$f":"I24+I25","v":234316.5205316408}]
["1.9.0.0.00.00.00.00","Outras Receitas Correntes -  P M",{"$f":"Plano!C18","v":158114.54},{"$f":"Plano!D18","v":162691.1},{"$f":"Plano!E18","v":120956.14},{"$f":"Plano!F18","v":130800},{"$f":"F24*(1+Parâmetros!E11)*(1+Parâmetros!E12)","v":139682.45926800001},{"$f":"G24*(1+Parâmetros!F11)*(1+Parâmetros!F12)","v":149810.20442163138},{"$f":"H24*(1+Parâmetros!G11)*(1+Parâmetros!G12)","v":160632.08011288583}]
["1.9.0.0.00.00.00.00","Outras Receitas Correntes - R P P S ",{"$f":"Plano!C19","v":0},{"$f":"Plano!D19","v":191764.26},{"$f":"Plano!E19","v":60442.67},{"$f":"Plano!F19","v":60000},{"$f":"F25*(1+Parâmetros!E11)*(1+Parâmetros!E12)","v":64074.522600000004},{"$f":"G25*(1+Parâmetros!F11)*(1+Parâmetros!F12)","v":68720.277257629074},{"$f":"H25*(1+Parâmetros!G11)*(1+Parâmetros!G12)","v":73684.440418754966}]
["2.0.0.0.00.00.00.00","RECEITAS DE CAPITAL",{"$f":"Plano!C20","v":1605771.58},{"$f":"Plano!D20","v":1891348.56},{"$f":"Plano!E20","v":2062478.6},{"$f":"Plano!F20","v":1810000},{"$f":"G27+G28+G29+G30+G31","v":531612.91099999996},{"$f":"H27+H28+H29+H30+H31","v":1270157.7656023812},{"$f":"I27+I28+I29+I30+I31","v":611344.38895406423}]
["2.1.0.0.00.00.00.00","OPERACOES DE CREDITO",{"$f":"Plano!C21","v":0},{"$f":"Plano!D21","v":0},{"$f":"Plano!E21","v":0},{"$f":"Plano!F21","v":560000},{"$f":"Dívida!E17","v":0},{"$f":"Dívida!F17","v":700000},{"$f":"Dívida!G17","v":0}]
["2.2.0.0.00.00.00.00","ALIENACAO DE BENS",{"$f":"Plano!C22","v":0},{"$f":"Plano!D22","v":218220},{"$f":"Plano!E22","v":73000},{"$f":"Plano!F22","v":100000},{"$f":"F28*(1+Parâmetros!E11)*(1+Parâmetros!E12)","v":106790.87100000001},{"$f":"G28*(1+Parâmetros!F11)*(1+Parâmetros!F12)","v":114533.79542938179},{"$f":"H28*(1+Parâmetros!G11)*(1+Parâmetros!G12)","v":122807.40069792494}]
["2.3.0.0.00.00.00.00","AMORTIZACAO DE EMPRESTIMOS",{"$f":"Plano!C23","v":0},{"$f":"Plano!D23","v":0},{"$f":"Plano!E23","v":0},{"$f":"Plano!F23","v":0},{"$f":"F29*(1+Parâmetros!E11)*(1+Parâmetros!E12)","v":0},{"$f":"G29*(1+Parâmetros!F11)*(1+Parâmetros!F12)","v":0},{"$f":"H29*(1+Parâmetros!G11)*(1+Parâmetros!G12)","v":0}]
["2.4.0.0.00.00.00.00","TRANSFERENCIAS DE CAPITAL",{"$f":"Plano!C24","v":1605771.58},{"$f":"Plano!D24","v":1673128.56},{"$f":"Plano!E24","v":1989478.6},{"$f":"Plano!F24","v":1150000},424822.04,{"$f":"G30*(1+Parâmetros!F11)*(1+Parâmetros!F12)","v":455623.97017299948},{"$f":"H30*(1+Parâmetros!G11)*(1+Parâmetros!G12)","v":488536.98825613927}]
["2.5.0.0.00.00.00.00","OUTRAS RECEITAS DE CAPITAL",{"$f":"Plano!C25","v":0},{"$f":"Plano!D25","v":0},{"$f":"Plano!E25","v":0},{"$f":"Plano!F25","v":0},{"$f":"F31*(1+Parâmetros!E11)*(1+Parâmetros!E12)","v":0},{"$f":"G31*(1+Parâmetros!F11)*(1+Parâmetros!F12)","v":0},{"$f":"H31*(1+Parâmetros!G11)*(1+Parâmetros!G12)","v":0}]
["7.2.1.0.00.00.00.00","Receitas Intra Orçamentárias - RPPS ",{"$f":"Plano!C26","v":877002.32},{"$f":"Plano!D26","v":1053918.55},{"$f":"Plano!E26","v":1182049.22},{"$f":"Plano!F26","v":1300000},{"$f":"F32*(1+Parâmetros!E11)*(1+Parâmetros!E17)","v":1479956.4000000001},{"$f":"G32*(1+Parâmetros!F11)*(1+Parâmetros!F17)","v":1645152.0932808002},{"$f":"H32*(1+Parâmetros!G11)*(1+Parâmetros!G17)","v":1825473.923921122}]
["9.0.0.0.00.00.00.00","DEDUÇÕES DA RECEITA",{"$f":"Plano!C27","v":-3944135.34},{"$f":"Plano!D27","v":-2806681.84},{"$f":"Plano!E27","v":-2921854.99},{"$f":"Plano!F27","v":-2766200},{"$f":"F33*(1+Parâmetros!E11)*(1+Parâmetros!E12)","v":-2954049.0736020003},{"$f":"G33*(1+Parâmetros!F11)*(1+Parâmetros!F12)","v":-3168233.8491675588},{"$f":"H33*(1+Parâmetros!G11)*(1+Parâmetros!G12)","v":-3397098.3181059994}]
[null,null,{"$f":"Plano!C28","v":0},{"$f":"Plano!D28","v":0},{"$f":"Plano!E28","v":0},{"$f":"Plano!F28","v":0}]
[null,"TOTAL DA RECEITA",{"$f":"Plano!C29","v":16047769.919999998},{"$f":"Plano!D29","v":20057662.399999999},{"$f":"Plano!E29","v":20476629.780000001},{"$f":"Plano!F29","v":22140000},{"$f":"G9+G26+G32+G33","v":23298164.032075994},{"$f":"H9+H26+H32+H33","v":26059122.457866635},{"$f":"I9+I26+I32+I33","v":27983073.318145711}]
[]
[]
["CÓDIGOS","CONTAS","REALIZADA","REALIZADA","REALIZADA","REESTIMADO","PROJETADO","PROJETADO","PROJETADO","PROJETADO"]
[null,"CONSOLIDADAS ANUAIS",2013,{"$f":"C39+1","v":2014},2015,2016,2017,2018,2019,2005]
["3.0.00.00.00.00.00","DESPESAS CORRENTES",{"$f":"Plano!C33","v":13190424.93},{"$f":"Plano!D33","v":15247148.950000001},{"$f":"Plano!E33","v":16026185.6},{"$f":"Plano!F33","v":18089000},{"$f":"(G41+G44+G47)","v":19858755.713},{"$f":"H41+H44+H47","v":21356863.532662868},{"$f":"I41+I44+I47","v":23408465.371148497}]
["3.1.00.00.00.00.00","PESSOAL E ENCARGOS SOCIAIS",{"$f":"Plano!C34","v":6312865.6299999999},{"$f":"Plano!D34","v":7484629.5300000003},{"$f":"Plano!E34","v":7505879.2400000002},{"$f":"Plano!F34","v":8346000},9248146.7200000007,{"$f":"H42+H43","v":9463816.4596177451},{"$f":"I42+I43","v":9974043.1877713371}]
["3.1.00.00.00.00.00","Pessoal  Próprio",{"$f":"Plano!C35","v":6312865.6299999999},{"$f":"Plano!D35","v":7484629.5300000003},{"$f":"Plano!E35","v":7505879.2400000002},{"$f":"Plano!F35","v":8326000},9226515.9600000009,{"$f":"G42*(1+Parâmetros!F11)*(1+Parâmetros!F13)*(1+Parâmetros!F17)","v":9441681.2638288438},{"$f":"H42*(1+Parâmetros!G11)*(1+Parâmetros!G13)*(1+Parâmetros!G17)","v":9950714.6078363471}]
["3.1.00.00.00.00.00","Pessoal  do  R P P S ",{"$f":"Plano!C36","v":0},{"$f":"Plano!D36","v":0},{"$f":"Plano!E36","v":0},{"$f":"Plano!F36","v":20000},{"$f":"F43*(1+Parâmetros!E11)*(1+Parâmetros!E13)*(1+Parâmetros!E17)","v":21630.759556184828},{"$f":"G43*(1+Parâmetros!F11)*(1+Parâmetros!F13)*(1+Parâmetros!F17)","v":22135.195788900684},{"$f":"H43*(1+Parâmetros!G11)*(1+Parâmetros!G13)*(1+Parâmetros!G17)","v":23328.579934990321}]
["3.2.00.00.00.00.00","JUROS E ENCARGOS DA DÍVIDA",{"$f":"Plano!C37","v":181306.56},{"$f":"Plano!D37","v":104020.53},{"$f":"Plano!E37","v":48779.41},{"$f":"Plano!F37","v":100000},{"$f":"G45+G46","v":117985.413},{"$f":"H45+H46","v":136797.32816904335},{"$f":"I45+I46","v":157705.5467161556}]
["3.2.00.00.00.00.00","Juros e Encargos da Dívida",{"$f":"Plano!C38","v":181306.56},{"$f":"Plano!D38","v":104020.53},{"$f":"Plano!E38","v":48779.41},{"$f":"Plano!F38","v":100000},{"$f":"F45*(1+Parâmetros!E11)*(1+Parâmetros!E19)","v":117985.413},{"$f":"G45*(1+Parâmetros!F11)*(1+Parâmetros!F19)","v":136797.32816904335},{"$f":"H45*(1+Parâmetros!G11)*(1+Parâmetros!G19)","v":157705.5467161556}]
["3.2.00.00.00.00.00","Juros e encargos da Dívida RPPS ",{"$f":"Plano!C39","v":0},{"$f":"Plano!D39","v":0},{"$f":"Plano!E39","v":0},{"$f":"Plano!F39","v":0},{"$f":"F46*(1+Parâmetros!E11)*(1+Parâmetros!E19)","v":0},{"$f":"G46*(1+Parâmetros!F11)*(1+Parâmetros!F19)","v":0},{"$f":"H46*(1+Parâmetros!G11)*(1+Parâmetros!G19)","v":0}]
["3.3.00.00.00.00.00","OUTRAS DESPESAS CORRENTES",{"$f":"Plano!C40","v":6696252.7400000002},{"$f":"Plano!D40","v":7658498.8900000006},{"$f":"Plano!E40","v":8471526.9499999993},{"$f":"Plano!F40","v":9643000},10492623.58,{"$f":"H48+H49","v":11756249.744876081},{"$f":"I48+I49","v":13276716.636661004}]
["3.3.00.00.00.00.00","Outras Despesas Correntes",{"$f":"Plano!C41","v":5770144.79},{"$f":"Plano!D41","v":6558559.8600000003},{"$f":"Plano!E41","v":7044944.3499999996},{"$f":"Plano!F41","v":8028000},8668337.8699999992,{"$f":"G48*(1+Parâmetros!F11)*(1+Parâmetros!F14)","v":9713158.4092899729},{"$f":"H48*(1+Parâmetros!G11)*(1+Parâmetros!G14)","v":10969386.891712654}]
["3.3.00.00.00.00.00","Outras Despesas Corrente  RPPS",{"$f":"Plano!C42","v":926107.95},{"$f":"Plano!D42","v":1099939.03},{"$f":"Plano!E42","v":1426582.6},{"$f":"Plano!F42","v":1615000},{"$f":"F49*(1+Parâmetros!E11)*(1+Parâmetros!E14)","v":1823321.0300772341},{"$f":"G49*(1+Parâmetros!F11)*(1+Parâmetros!F14)","v":2043091.3355861085},{"$f":"H49*(1+Parâmetros!G11)*(1+Parâmetros!G14)","v":2307329.7449483504}]
["4.0.00.00.00.00.00","DESPESAS DE CAPITAL",{"$f":"Plano!C43","v":1855835.9699999997},{"$f":"Plano!D43","v":2994994.55},{"$f":"Plano!E43","v":4201189.75},{"$f":"Plano!F43","v":3121000},{"$f":"G51+G54+G57","v":2020043.9596299999},{"$f":"H51+H54+H57","v":2270081.9153848286},{"$f":"I51+I54+I57","v":2544027.366156748}]
["4.4.00.00.00.00.00","INVESTIMENTOS",{"$f":"Plano!C44","v":1001672.72},{"$f":"Plano!D44","v":1799284.05},{"$f":"Plano!E44","v":3136625.33},{"$f":"Plano!F44","v":2420000},{"$f":"G52+G53","v":1195764.8500000001},{"$f":"H52+H53","v":1316698.5281047502},{"$f":"I52+I53","v":1447236.0201810552}]
["4.4.00.00.00.00.00","Invetimentos",{"$f":"Plano!C45","v":1001672.72},{"$f":"Plano!D45","v":1799284.05},{"$f":"Plano!E45","v":3136625.33},{"$f":"Plano!F45","v":2420000},1195764.8500000001,{"$f":"G52*(1+Parâmetros!F11)*(1+Parâmetros!F18)","v":1316698.5281047502},{"$f":"H52*(1+Parâmetros!G11)*(1+Parâmetros!G18)","v":1447236.0201810552}]
["4.4.00.00.00.00.00","Invetimentos  RPPS ",{"$f":"Plano!C46","v":0},{"$f":"Plano!D46","v":0},{"$f":"Plano!E46","v":0},{"$f":"Plano!F46","v":0},{"$f":"F53*(1+Parâmetros!E11)*(1+Parâmetros!E18)","v":0},{"$f":"G53*(1+Parâmetros!F11)*(1+Parâmetros!F18)","v":0},{"$f":"H53*(1+Parâmetros!G11)*(1+Parâmetros!G18)","v":0}]
["4.5.00.00.00.00.00","INVERSÕES FINANCEIRAS",{"$f":"Plano!C47","v":49527.13},{"$f":"Plano!D47","v":223392.03},{"$f":"Plano!E47","v":173424.12},{"$f":"Plano!F47","v":25000},{"$f":"G55+G56","v":26697.717750000003},{"$f":"H55+H56","v":28633.448857345447},{"$f":"I55+I56","v":30701.850174481235}]
["4.5.90.66.00.00.00","Concessão de Empréstimos e Financiamentos",{"$f":"Plano!C48","v":0},{"$f":"Plano!D48","v":0},{"$f":"Plano!E48","v":0},{"$f":"Plano!F48","v":0},{"$f":"F55*(1+Parâmetros!E11)*(1+Parâmetros!E12)","v":0},{"$f":"G55*(1+Parâmetros!F11)*(1+Parâmetros!F12)","v":0},{"$f":"H55*(1+Parâmetros!G11)*(1+Parâmetros!G12)","v":0}]
["4.5.90.99.00.00.00","Outras Inversões Financeiras",{"$f":"Plano!C49","v":49527.13},{"$f":"Plano!D49","v":223392.03},{"$f":"Plano!E49","v":173424.12},{"$f":"Plano!F49","v":25000},{"$f":"F56*(1+Parâmetros!E11)*(1+Parâmetros!E12)","v":26697.717750000003},{"$f":"G56*(1+Parâmetros!F11)*(1+Parâmetros!F12)","v":28633.448857345447},{"$f":"H56*(1+Parâmetros!G11)*(1+Parâmetros!G12)","v":30701.850174481235}]
["4.6.00.00.00.00.00","AMORTIZAÇÃO DA DÍVIDA PÚBLICA",{"$f":"Plano!C50","v":804636.12},{"$f":"Plano!D50","v":972318.47},{"$f":"Plano!E50","v":891140.3},{"$f":"Plano!F50","v":676000},{"$f":"F57*(1+Parâmetros!E11)*(1+Parâmetros!E19)","v":797581.39187999989},{"$f":"G57*(1+Parâmetros!F11)*(1+Parâmetros!F19)","v":924749.93842273299},{"$f":"H57*(1+Parâmetros!G11)*(1+Parâmetros!G19)","v":1066089.4958012116}]
["9.9.99.99.99.99.01","RESERVA DE CONTINGÊNCIA",null,null,null,{"$f":"Plano!F52","v":5000},10000,{"$f":"H35-H40-H50-H59","v":1155889.1625475185},{"$f":"I35-I40-I50-I59","v":718523.07472925261}]
["9.9.99.99.99.99.02","RESERVA DE CONTINGÊNCIA DO RPPS",null,null,null,{"$f":"Plano!F53","v":925000},{"$f":"(G13+G17+G25+G32)-(G43+G46+G49+G53)","v":1216983.1329665813},{"$f":"(H13+H17+H25+H32)-(H43+H46+H49+H53)","v":1276287.8472714196},{"$f":"(I13+I17+I25+I32)-(I43+I46+I49+I53)","v":1312057.5061112135}]
[null,"TOTAL DA DESPESA",{"$f":"Plano!C55","v":15046260.899999999},{"$f":"Plano!D55","v":18242143.5},{"$f":"Plano!E55","v":20227375.350000001},{"$f":"Plano!F55","v":22140000},{"$f":"G40+G50+G58+G59","v":23105782.805596583},{"$f":"H40+H50+H58+H59","v":26059122.457866635},{"$f":"I40+I50+I58+I59","v":27983073.318145711}]
[50000002,"Operação de Crédito Externo"]
[null,"RESULTADOS ","REALIZADO",{"$f":"IF(#REF!>0,\"REALIZADO\",\"PROJETADO\")","v":{"$error":"#REF!"}},{"$f":"IF(#REF!>0,\"REALIZADO\",\"PROJETADO\")","v":{"$error":"#REF!"}},{"$f":"IF(#REF!>0,\"REALIZADO\",\"PROJETADO\")","v":{"$error":"#REF!"}},"PROJETADO",null,"PROJETADO","PROJETADO"]
[null,"FISCAIS",1999,2000,2001,2002,2003,null,2004,2005]
[]
[null,"1. RECEITA CORRENTE LÍQUIDA",{"$f":"C8-#REF!-C14+C69-#REF!","v":{"$error":"#REF!"}},{"$f":"D8-#REF!-D14+D69-#REF!","v":{"$error":"#REF!"}},{"$f":"E8-#REF!-E14+E69-#REF!","v":{"$error":"#REF!"}},{"$f":"F8-#REF!-F14+F69-#REF!","v":{"$error":"#REF!"}},{"$f":"G8-#REF!-G14+G69-#REF!","v":{"$error":"#REF!"}},null,{"$f":"I8-#REF!-I14+I69-#REF!","v":{"$error":"#REF!"}},{"$f":"J8-#REF!-J14+J69","v":{"$error":"#REF!"}}]
[null,"2. RECEITAS DE TRIBUTOS",{"$f":"C9","v":17509131.359999999},{"$f":"D9","v":19919077.129999999},20153956.949999999,21796200,24240643.794677999,null,28943353.323376521,0]
[null,"3. RECEITAS FINANCEIRAS",{"$f":"C19+C20+C22+#REF!+#REF!+#REF!+#REF!","v":{"$error":"#REF!"}},{"$f":"D19+D20+D22+#REF!+#REF!+#REF!+#REF!","v":{"$error":"#REF!"}},{"$f":"E19+E20+E22+#REF!+#REF!+#REF!+#REF!","v":{"$error":"#REF!"}},{"$f":"F19+F20+F22+#REF!+#REF!+#REF!+#REF!","v":{"$error":"#REF!"}},{"$f":"G19+G20+G22+#REF!+#REF!+#REF!+#REF!","v":{"$error":"#REF!"}},null,{"$f":"I19+I20+I22+#REF!+#REF!+#REF!+#REF!","v":{"$error":"#REF!"}},{"$f":"J19+J20+J22+#REF!+#REF!+#REF!+#REF!","v":{"$error":"#REF!"}}]
[null,"4. RENÚNCIA FISCAL",{"$f":"#REF!","v":{"$error":"#REF!"}},{"$f":"#REF!","v":{"$error":"#REF!"}},{"$f":"#REF!","v":{"$error":"#REF!"}},{"$f":"#REF!","v":{"$error":"#REF!"}},{"$f":"#REF!","v":{"$error":"#REF!"}},null,{"$f":"#REF!","v":{"$error":"#REF!"}},{"$f":"#REF!","v":{"$error":"#REF!"}}]
[null,"5. VALOR LÍQUIDO DO FUNDEF",{"$f":"#REF!-#REF!","v":{"$error":"#REF!"}},{"$f":"#REF!-#REF!","v":{"$error":"#REF!"}},{"$f":"#REF!-#REF!","v":{"$error":"#REF!"}},{"$f":"#REF!-#REF!","v":{"$error":"#REF!"}},{"$f":"#REF!-#REF!","v":{"$error":"#REF!"}},null,{"$f":"#REF!-#REF!","v":{"$error":"#REF!"}},{"$f":"#REF!-#REF!","v":{"$error":"#REF!"}}]
[null,"6. TRANSFERÊNCIAS DA UNIÃO",{"$f":"#REF!","v":{"$error":"#REF!"}},{"$f":"#REF!","v":{"$error":"#REF!"}},{"$f":"#REF!","v":{"$error":"#REF!"}},{"$f":"#REF!","v":{"$error":"#REF!"}},{"$f":"#REF!","v":{"$error":"#REF!"}},null,{"$f":"#REF!","v":{"$error":"#REF!"}},{"$f":"#REF!","v":{"$error":"#REF!"}}]
[null,"7. TRANSFERÊNCIAS DOS ESTADOS",{"$f":"#REF!","v":{"$error":"#REF!"}},{"$f":"#REF!","v":{"$error":"#REF!"}},{"$f":"#REF!","v":{"$error":"#REF!"}},{"$f":"#REF!","v":{"$error":"#REF!"}},{"$f":"#REF!","v":{"$error":"#REF!"}},null,{"$f":"#REF!","v":{"$error":"#REF!"}},{"$f":"#REF!","v":{"$error":"#REF!"}}]
[null,"8. OPERAÇÕES DE CRÉDITO",{"$f":"#REF!","v":{"$error":"#REF!"}},{"$f":"#REF!","v":{"$error":"#REF!"}},{"$f":"#REF!","v":{"$error":"#REF!"}},{"$f":"#REF!","v":{"$error":"#REF!"}},{"$f":"#REF!","v":{"$error":"#REF!"}},null,{"$f":"#REF!","v":{"$error":"#REF!"}},{"$f":"#REF!","v":{"$error":"#REF!"}}]
[null,"9. AROS",{"$f":"C30","v":1605771.58},{"$f":"D30","v":1673128.56},1989478.6,1150000,424822.04,null,488536.98825613927,0]
[null,"10. PESSOAL ATIVO",{"$f":"#REF!+#REF!+C55+C56+C57+#REF!+C59+C60+C44+#REF!","v":{"$error":"#REF!"}},{"$f":"#REF!+#REF!+D55+D56+D57+#REF!+D59+D60+D44+#REF!","v":{"$error":"#REF!"}},{"$f":"#REF!+#REF!+E55+E56+E57+#REF!+E59+E60+E44+#REF!","v":{"$error":"#REF!"}},{"$f":"#REF!+#REF!+F55+F56+F57+#REF!+F59+F60+F44+#REF!","v":{"$error":"#REF!"}},{"$f":"#REF!+#REF!+G55+G56+G57+#REF!+G59+G60+G44+#REF!","v":{"$error":"#REF!"}},null,{"$f":"#REF!+#REF!+I55+I56+I57+#REF!+I59+I60+I44+#REF!","v":{"$error":"#REF!"}},{"$f":"#REF!+#REF!+J55+J56+J57+#REF!+J59+J60","v":{"$error":"#REF!"}}]
[null,"11. PESSOAL INATIVO",{"$f":"#REF!+#REF!","v":{"$error":"#REF!"}},{"$f":"#REF!+#REF!","v":{"$error":"#REF!"}},{"$f":"#REF!+#REF!","v":{"$error":"#REF!"}},{"$f":"#REF!+#REF!","v":{"$error":"#REF!"}},{"$f":"#REF!+#REF!","v":{"$error":"#REF!"}},null,{"$f":"#REF!+#REF!","v":{"$error":"#REF!"}},{"$f":"#REF!+#REF!","v":{"$error":"#REF!"}}]
[null,"12. PENSIONISTAS",{"$f":"C51+C54","v":1051199.8499999999},{"$f":"D51+D54","v":2022676.08},{"$f":"E51+E54","v":3310049.45},{"$f":"F51+F54","v":2445000},{"$f":"G51+G54","v":1222462.5677500002},null,{"$f":"I51+I54","v":1477937.8703555365},{"$f":"J51+J54","v":0}]
[null,"13. SERVIÇOS DE TERCEIROS",{"$f":"#REF!","v":{"$error":"#REF!"}},{"$f":"#REF!","v":{"$error":"#REF!"}},{"$f":"#REF!","v":{"$error":"#REF!"}},{"$f":"#REF!","v":{"$error":"#REF!"}},{"$f":"#REF!","v":{"$error":"#REF!"}},null,{"$f":"#REF!","v":{"$error":"#REF!"}},{"$f":"#REF!","v":{"$error":"#REF!"}}]
[null,"14. OUTROS CUSTEIOS CORRENTES",{"$f":"C47+#REF!+#REF!+#REF!+#REF!+#REF!+#REF!","v":{"$error":"#REF!"}},{"$f":"D47+#REF!+#REF!+#REF!+#REF!+#REF!+#REF!","v":{"$error":"#REF!"}},{"$f":"E47+#REF!+#REF!+#REF!+#REF!+#REF!+#REF!","v":{"$error":"#REF!"}},{"$f":"F47+#REF!+#REF!+#REF!+#REF!+#REF!+#REF!","v":{"$error":"#REF!"}},{"$f":"G47+#REF!+#REF!+#REF!+#REF!+#REF!+#REF!","v":{"$error":"#REF!"}},null,{"$f":"I47+#REF!+#REF!+#REF!+#REF!+#REF!+#REF!","v":{"$error":"#REF!"}},{"$f":"J47+#REF!+#REF!+#REF!+#REF!+#REF!+#REF!","v":{"$error":"#REF!"}}]
[null,"15. INVESTIMENTOS",{"$f":"#REF!","v":{"$error":"#REF!"}},{"$f":"#REF!","v":{"$error":"#REF!"}},{"$f":"#REF!","v":{"$error":"#REF!"}},{"$f":"#REF!","v":{"$error":"#REF!"}},{"$f":"#REF!","v":{"$error":"#REF!"}},null,{"$f":"#REF!","v":{"$error":"#REF!"}},{"$f":"#REF!","v":{"$error":"#REF!"}}]
[null,"16. ENCARGOS DA DÍVIDA",{"$f":"#REF!+#REF!","v":{"$error":"#REF!"}},{"$f":"#REF!+#REF!","v":{"$error":"#REF!"}},{"$f":"#REF!+#REF!","v":{"$error":"#REF!"}},{"$f":"#REF!+#REF!","v":{"$error":"#REF!"}},{"$f":"#REF!+#REF!","v":{"$error":"#REF!"}},null,{"$f":"#REF!+#REF!","v":{"$error":"#REF!"}},{"$f":"#REF!+#REF!","v":{"$error":"#REF!"}}]
[null,"17. AMORTIZAÇÕES DA DÍVIDA",{"$f":"#REF!+#REF!","v":{"$error":"#REF!"}},{"$f":"#REF!+#REF!","v":{"$error":"#REF!"}},{"$f":"#REF!+#REF!","v":{"$error":"#REF!"}},{"$f":"#REF!+#REF!","v":{"$error":"#REF!"}},{"$f":"#REF!+#REF!","v":{"$error":"#REF!"}},null,{"$f":"#REF!+#REF!","v":{"$error":"#REF!"}},{"$f":"#REF!+#REF!","v":{"$error":"#REF!"}}]
[null,"18. DESPESAS FINANCEIRAS",{"$f":"C80+C81","v":{"$error":"#REF!"}},{"$f":"D80+D81","v":{"$error":"#REF!"}},{"$error":"#REF!"},{"$error":"#REF!"},{"$error":"#REF!"},null,{"$error":"#REF!"},{"$error":"#REF!"}]
[null,"19. RESULTADO PRIMÁRIO",{"$f":" ((C8+C28)-(C67)-((#REF!+#REF!)-C82))","v":{"$error":"#REF!"}},{"$f":" ((D8+D28)-(D67)-((#REF!+#REF!)-D82))","v":{"$error":"#REF!"}},{"$f":" ((E8+E28)-(E67)-((#REF!+#REF!)-E82))","v":{"$error":"#REF!"}},{"$f":" ((F8+F28)-(F67)-((#REF!+#REF!)-F82))","v":{"$error":"#REF!"}},{"$f":" ((G8+G28)-(G67)-((#REF!+#REF!)-G82))","v":{"$error":"#REF!"}},null,{"$f":" ((I8+I28)-(I67)-((#REF!+#REF!)-I82))","v":{"$error":"#REF!"}},{"$f":"((J8+J28)-(J67)-((#REF!+#REF!)-J82))","v":{"$error":"#REF!"}}]
[null,"20. RESULTADO NOMINAL",{"$f":"-(C83-(C80-C19-C20-C22-#REF!))","v":{"$error":"#REF!"}},{"$f":"-(D83-(D80-D19-D20-D22-#REF!))","v":{"$error":"#REF!"}},{"$f":"-(E83-(E80-E19-E20-E22-#REF!))","v":{"$error":"#REF!"}},{"$f":"-(F83-(F80-F19-F20-F22-#REF!))","v":{"$error":"#REF!"}},{"$f":"-(G83-(G80-G19-G20-G22-#REF!))","v":{"$error":"#REF!"}},null,{"$f":"-(I83-(I80-I19-I20-I22-#REF!))","v":{"$error":"#REF!"}},{"$f":"J83-J80","v":{"$error":"#REF!"}}]

{"sheet":"Parâmetros","index":3,"n_rows":20,"n_cols":7,"rows_kept":20,"cut":false,"hidden":false,"merged":[[21,0,63,6],[6,0,6,9],[7,0,7,9],[8,0,8,9]]}
[]
[]
[]
[]
[]
[]
["Município de : Paverama"]
["LEI DE DIRETRIZES ORÇAMENTÁRIAS  PARA 2017"]
["TABELA  01 - Parâmentos Utilizados nas Estimativas das Receitas e Despesas"]
["Execício",2014,2015,2016,2017,2018,2019]
["INFLAÇÃO MÉDIA ANUAL   (I P C A)",6.4000000000000001E-2,0.1067,7.3099999999999998E-2,5.4100000000000002E-2,4.87E-2,4.6800000000000001E-2]
["VARIAÇÃODO PIB ",1E-3,-3.7999999999999999E-2,-3.1800000000000002E-2,1.3100000000000001E-2,2.2700000000000001E-2,2.4299999999999999E-2]
["CRESCIMENTO VEGETATIVO DA FOLHA SALARIAL",{"$f":"IF(Projeções!C41=0,\"-\",((Projeções!D41/Projeções!C41)-1)-B11-B17)","v":3.8415213229241463E-2},{"$f":"IF(Projeções!D41=0,\"-\",((Projeções!E41/Projeções!D41)-1)-C11-C17)","v":-0.16716088686623337},{"$f":"IF(Projeções!E41=0,\"-\",((Projeções!F41/Projeções!E41)-1)-D11-D17)","v":-2.1171639159491829E-2},{"$f":"(B13+C13+D13)/3","v":-4.9972437598827912E-2},-7.9434987874851037E-2,-5.0193021544390259E-2]
["CRESCIMENTO AUTÔNOMO DE OUTROS CUSTEIOS",{"$f":"IF(Projeções!C47=0,\"-\",((Projeções!D47/Projeções!C47)-1)-B11-B12)","v":7.8699198247406732E-2},{"$f":"IF(Projeções!D47=0,\"-\",((Projeções!E47/Projeções!D47)-1)-C11-C12)","v":3.7460237362128647E-2},{"$f":"IF(Projeções!E47=0,\"-\",((Projeções!F47/Projeções!E47)-1)-D11-D12)","v":9.6983577082877637E-2},7.1047670897471008E-2,6.8497161780825766E-2,7.8842803253724794E-2]
["ESFORÇO NA ARRECADAÇÃO TRIBUTÁRIA",{"$f":"IF(Projeções!C10=0,\"-\",((Projeções!D10/Projeções!C10)-1)-B11-B12)","v":6.0556880281017411E-2},{"$f":"IF(Projeções!D10=0,\"-\",((Projeções!E10/Projeções!D10)-1)-C11-C12)","v":8.4689827993631589E-4},{"$f":"IF(Projeções!E10=0,\"-\",((Projeções!F10/Projeções!E10)-1)-D11-D12)","v":5.4434942443075347E-2},3.8612907001343025E-2,3.129824924145156E-2,4.1448699561956646E-2]
["CRESC.REAL DAS RECEITAS TRANSFERIDAS",{"$f":"IF(Projeções!C22=0,\"-\",((Projeções!D22/Projeções!C22)-1)-B11-B12)","v":-9.136387569165294E-3},{"$f":"IF(Projeções!D22=0,\"-\",((Projeções!E22/Projeções!D22)-1)-C11-C12)","v":-3.5609124813850611E-2},{"$f":"IF(Projeções!E22=0,\"-\",((Projeções!F22/Projeções!E22)-1)-D11-D12)","v":6.4969896820868622E-2},6.7414614792842388E-3,1.2034077828767418E-2,2.7915145376306762E-2]
["PERCENTUAL DE AUMENTO SALARIAL",8.3199999999999996E-2,6.3299999999999995E-2,0.06,0.08,0.06,0.06]
["CRESCIMENTO DOS INVESTIMENTOS ",{"$f":"IF(Projeções!C51=0,\"-\",((Projeções!D51/Projeções!C51)-1)-B11-B12)","v":0.73127937755956862},{"$f":"IF(Projeções!D51=0,\"-\",((Projeções!E51/Projeções!D51)-1)-C11-C12)","v":0.67456301064026003},{"$f":"IF(Projeções!E51=0,\"-\",((Projeções!F51/Projeções!E51)-1)-D11-D12)","v":-0.26977017243210244},0.05,0.05,0.05]
["Taxa de Juros Selic (Média do Ano)",0.11700000000000001,0.14249999999999999,0.1416,0.1193,0.1056,0.1013]
["PIB / RS (em R$ milhões)",{"$f":"38897.51/0.1079","v":360495.92215013906},{"$f":"40362.31/0.1029","v":392247.9105928085},{"$f":"50295.39/0.1322","v":380449.2435703479},{"$f":"51996.31/0.1153","v":450965.39462272334},{"$f":"56323.12/0.1142","v":493197.19789842388},{"$f":"59060.8/0.1099","v":537404.91355777986}]

{"sheet":"Metas","index":4,"n_rows":22,"n_cols":10,"rows_kept":22,"cut":false,"hidden":false,"merged":[[22,0,22,9],[6,1,6,3],[6,4,6,6],[6,7,6,9],[7,0,10,0],[7,1,7,3],[7,4,7,6],[7,7,7,9],[0,0,0,9],[1,0,1,9],[2,0,2,9],[3,0,3,9],[4,0,4,9]]}
[{"$f":"Parâmetros!A7","v":"Município de : Paverama"}]
["LEI DE DIRETRIZES ORÇAMENTÁRIAS"]
["ANEXO I - METAS FISCAIS"]
["DEMONSTRATIVO DAS METAS ANUAIS - CONSOLIDADO"]
["EXERCÍCIO DE 2017"]
[]
["AMF - Demonstrativo I (LRF, art. 4º, § 1º)",null,null,null,null,null,null,1]
["ESPECIFICAÇÃO",2017,null,null,{"$f":"B8+1","v":2018},null,null,{"$f":"E8+1","v":2019}]
[null,"Valor","Valor","% PIB","Valor","Valor","% PIB","Valor","Valor","% PIB"]
[null,"Corrente","Constante","(a / PIB)","Corrente","Constante","(b / PIB)","Corrente","Constante","(c / PIB)"]
[null,"(a)",null,"x 100","(b)",null,"x 100","(c)",null,"x 100"]
["  Receita Total",{"$f":"Projeções!G35","v":23298164.032075994},{"$f":"B12/(1+Parâmetros!E11)","v":22102422.950456306},{"$f":"B12/(Parâmetros!E20)/1000000","v":5.1662864401307749E-5},{"$f":"Projeções!H35","v":26059122.457866635},{"$f":"E12/((1+Parâmetros!E11)*(1+Parâmetros!F11))","v":23573643.169583812},{"$f":"E12/(Parâmetros!F20)/1000000","v":5.2837125938484395E-5},{"$f":"Projeções!I35","v":27983073.318145711},{"$f":"H12/((1+Parâmetros!E11)*(1+Parâmetros!F11)*(1+Parâmetros!G11))","v":24182356.263010889},{"$f":"H12/(Parâmetros!G20)/1000000","v":5.2070743329995756E-5}]
["  Receitas Primárias (I)",{"$f":"B12-(Projeções!G15+Projeções!G27+Projeções!G28+Projeções!G29)","v":22190610.621075995},{"$f":"B13/(1+Parâmetros!E11)","v":21051712.95045631},{"$f":"B13/(Parâmetros!E20)/1000000","v":4.9206903424686524E-5},{"$f":"E12-(Projeções!H15+Projeções!H27+Projeções!H28+Projeções!H29)","v":24195088.986739252},{"$f":"E13/((1+Parâmetros!E11)*(1+Parâmetros!F11))","v":21887398.363160849},{"$f":"E13/(Parâmetros!F20)/1000000","v":4.9057636762409864E-5},{"$f":"H12-(Projeções!I15+Projeções!I27+Projeções!I28+Projeções!I29)","v":26761649.65692712},{"$f":"H13/((1+Parâmetros!E11)*(1+Parâmetros!F11)*(1+Parâmetros!G11))","v":23126828.809401788},{"$f":"H13/(Parâmetros!G20)/1000000","v":4.9797925143179408E-5}]
[" Despesa Total",{"$f":"Projeções!G60","v":23105782.805596583},{"$f":"B14/(1+Parâmetros!E11)","v":21919915.38335697},{"$f":"B14/(Parâmetros!E20)/1000000","v":5.1236265755883176E-5},{"$f":"Projeções!H60","v":26059122.457866635},{"$f":"E14/((1+Parâmetros!E11)*(1+Parâmetros!F11))","v":23573643.169583812},{"$f":"E14/(Parâmetros!F20)/1000000","v":5.2837125938484395E-5},{"$f":"Projeções!I60","v":27983073.318145711},{"$f":"H14/((1+Parâmetros!E11)*(1+Parâmetros!F11)*(1+Parâmetros!G11))","v":24182356.263010889},{"$f":"H14/(Parâmetros!G20)/1000000","v":5.2070743329995756E-5}]
["Despesas Primárias (II)",{"$f":"B14-(Projeções!G44+Projeções!G55+Projeções!G57)","v":22190216.000716582},{"$f":"B15/(1+Parâmetros!E11)","v":21051338.583356969},{"$f":"B15/(Parâmetros!E20)/1000000","v":4.9206028367832669E-5},{"$f":"E14-(Projeções!H44+Projeções!H55+Projeções!H57)","v":24997575.191274859},{"$f":"E15/((1+Parâmetros!E11)*(1+Parâmetros!F11))","v":22613344.659503814},{"$f":"E15/(Parâmetros!F20)/1000000","v":5.0684746989221988E-5},{"$f":"H14-(Projeções!I44+Projeções!I55+Projeções!I57)","v":26759278.275628343},{"$f":"H15/((1+Parâmetros!E11)*(1+Parâmetros!F11)*(1+Parâmetros!G11))","v":23124779.513859786},{"$f":"H15/(Parâmetros!G20)/1000000","v":4.9793512490375247E-5}]
[" Resultado Primário (I – II)",{"$f":"B13-B15","v":394.62035941332579},{"$f":"C13-C15","v":374.36709934100509},{"$f":"B16/(Parâmetros!E20)/1000000","v":8.7505685384898399E-10},{"$f":"E13-E15","v":-802486.20453560725},{"$f":"F13-F15","v":-725946.29634296522},{"$f":"E16/(Parâmetros!F20)/1000000","v":-1.6271102268121215E-6},{"$f":"H13-H15","v":2371.381298776716},{"$f":"I13-I15","v":2049.2955420017242},{"$f":"H16/(Parâmetros!G20)/1000000","v":4.4126528041537029E-9}]
[" Resultado Nominal",{"$f":"Dívida!E12","v":-484094.18333333335},{"$f":"B17/(1+Parâmetros!E11)","v":-459248.82205989311},{"$f":"B17/(Parâmetros!E20)/1000000","v":-1.0734619310165151E-6},{"$f":"Dívida!F12","v":531426.11555555556},{"$f":"E17/((1+Parâmetros!E11)*(1+Parâmetros!F11))","v":480739.50453856814},{"$f":"E17/(Parâmetros!F20)/1000000","v":1.0775124388784647E-6},{"$f":"Dívida!G12","v":-265919.34925925941},{"$f":"H17/((1+Parâmetros!E11)*(1+Parâmetros!F11)*(1+Parâmetros!G11))","v":-229801.65073024761},{"$f":"H17/(Parâmetros!G20)/1000000","v":-4.9482120939087529E-7}]
[" Dívida Pública Consolidada ",{"$f":"Dívida!E7","v":525000},{"$f":"B18/(1+Parâmetros!E11)","v":498055.2129778958},{"$f":"B18/(Parâmetros!E20)/1000000","v":1.1641691496954304E-6},{"$f":"Dívida!F7","v":1050000},{"$f":"E18/((1+Parâmetros!E11)*(1+Parâmetros!F11))","v":949852.60413444426},{"$f":"E18/(Parâmetros!F20)/1000000","v":2.1289658669477112E-6},{"$f":"Dívida!G7","v":700000},{"$f":"H18/((1+Parâmetros!E11)*(1+Parâmetros!F11)*(1+Parâmetros!G11))","v":604924.5982259867},{"$f":"H18/(Parâmetros!G20)/1000000","v":1.3025560100777503E-6}]
[" Dívida Consolidada Líquida ",{"$f":"Dívida!E9","v":-940094.18333333335},{"$f":"B19/(1+Parâmetros!E11)","v":-891845.34990355116},{"$f":"B19/(Parâmetros!E20)/1000000","v":-2.0846259924662601E-6},{"$f":"Dívida!F9","v":-408668.06777777779},{"$f":"E19/((1+Parâmetros!E11)*(1+Parâmetros!F11))","v":-369689.93181458459},{"$f":"E19/(Parâmetros!F20)/1000000","v":-8.2860987353367885E-7},{"$f":"Dívida!G9","v":-674587.4170370372},{"$f":"H19/((1+Parâmetros!E11)*(1+Parâmetros!F11)*(1+Parâmetros!G11))","v":-582963.60317062261},{"$f":"H19/(Parâmetros!G20)/1000000","v":-1.2552684205491692E-6}]
["Receitas Primárias Advindas de PPP (IV)",0,0,0,0,0,0,0,0,0]
["Despesas Primárias Geradas por PPP (V)",0,0,0,0,0,0,0,0,0]
["Impacto do Saldo das PPP (VI) = (IV) - (V)",0,0,0,0,0,0,0,0,0]

{"sheet":"MetasRPPS","index":5,"n_rows":16,"n_cols":10,"rows_kept":16,"cut":false,"hidden":false,"merged":[[0,0,0,9],[1,0,1,9],[2,0,2,9],[3,0,3,9],[16,0,16,9],[7,0,10,0],[7,1,7,3],[7,4,7,6],[7,7,7,9],[4,0,4,9],[6,1,6,3],[6,4,6,6],[6,7,6,9]]}
[{"$f":"Parâmetros!A7","v":"Município de : Paverama"}]
["LEI DE DIRETRIZES ORÇAMENTÁRIAS"]
["ANEXO I - METAS FISCAIS"]
["DEMONSTRATIVO DAS METAS DE RESULTADO PRIMÁRIO DO PREGIME PRÓPRIO DE PREVIDÊNCIA SOCIAL"]
["EXERCÍCIO DE 2017"]
[]
["AMF - Demonstrativo I (LRF, art. 4º, § 1º)",null,null,null,null,null,null,1]
["ESPECIFICAÇÃO",2017,null,null,{"$f":"B8+1","v":2018},null,null,{"$f":"E8+1","v":2019}]
[null,"Valor","Valor","% PIB","Valor","Valor","% PIB","Valor","Valor","% PIB"]
[null,"Corrente","Constante","(a / PIB)","Corrente","Constante","(b / PIB)","Corrente","Constante","(c / PIB)"]
[null,"(a)",null,"x 100","(b)",null,"x 100","(c)",null,"x 100"]
["  Receita Total RPPS",3061764.24,{"$f":"B12/(1+Parâmetros!E11)","v":2904624.0774120102},{"$f":"B12/(Parâmetros!E20)/1000000","v":6.7893551844736683E-6},{"$f":"Projeções!H13+Projeções!H17+Projeções!H25+Projeções!H32","v":3341514.3786464287},{"$f":"E12/((1+Parâmetros!E11)*(1+Parâmetros!F11))","v":3022805.8421999998},{"$f":"E12/(Parâmetros!F20)/1000000","v":6.7752095771935592E-6},{"$f":"Projeções!I13+Projeções!I17+Projeções!I25+Projeções!I32","v":3642715.8309945543},{"$f":"H12/((1+Parâmetros!E11)*(1+Parâmetros!F11)*(1+Parâmetros!G11))","v":3147954.8721654601},{"$f":"H12/(Parâmetros!G20)/1000000","v":6.7783448552390333E-6}]
["  Receitas Primárias RPPS (I)",{"$f":"B12-Projeções!G17","v":2113074.2400000002},{"$f":"B13/(1+Parâmetros!E11)","v":2004624.0774120104},{"$f":"B13/(Parâmetros!E20)/1000000","v":4.6856682689983194E-6},{"$f":"E12-Projeções!H17","v":2346623.175646429},{"$f":"E13/((1+Parâmetros!E11)*(1+Parâmetros!F11))","v":2122805.8421999998},{"$f":"E13/(Parâmetros!F20)/1000000","v":4.7579815652758964E-6},{"$f":"H12-Projeções!I17","v":2601263.7196941543},{"$f":"H13/((1+Parâmetros!E11)*(1+Parâmetros!F11)*(1+Parâmetros!G11))","v":2247954.8721654601},{"$f":"H13/(Parâmetros!G20)/1000000","v":4.8404167026926071E-6}]
[" Despesa Total RPPS",{"$f":"Projeções!G43+Projeções!G46+Projeções!G49+Projeções!G53+Projeções!G59","v":3061934.9226000002},{"$f":"B14/(1+Parâmetros!E11)","v":2904786},{"$f":"B14/(Parâmetros!E20)/1000000","v":6.7897336671733053E-6},{"$f":"Projeções!H43+Projeções!H46+Projeções!H49+Projeções!H53+Projeções!H59","v":3341514.3786464287},{"$f":"E14/((1+Parâmetros!E11)*(1+Parâmetros!F11))","v":3022805.8421999998},{"$f":"E14/(Parâmetros!F20)/1000000","v":6.7752095771935592E-6},{"$f":"Projeções!I43+Projeções!I46+Projeções!I49+Projeções!I53+Projeções!I59","v":3642715.8309945543},{"$f":"H14/((1+Parâmetros!E11)*(1+Parâmetros!F11)*(1+Parâmetros!G11))","v":3147954.8721654601},{"$f":"H14/(Parâmetros!G20)/1000000","v":6.7783448552390333E-6}]
["Despesas Primárias RPPS (II)",{"$f":"B14-Projeções!G46","v":3061934.9226000002},{"$f":"B15/(1+Parâmetros!E11)","v":2904786},{"$f":"B15/(Parâmetros!E20)/1000000","v":6.7897336671733053E-6},{"$f":"E14-Projeções!H46","v":3341514.3786464287},{"$f":"E15/((1+Parâmetros!E11)*(1+Parâmetros!F11))","v":3022805.8421999998},{"$f":"E15/(Parâmetros!F20)/1000000","v":6.7752095771935592E-6},{"$f":"H14-Projeções!I46","v":3642715.8309945543},{"$f":"H15/((1+Parâmetros!E11)*(1+Parâmetros!F11)*(1+Parâmetros!G11))","v":3147954.8721654601},{"$f":"H15/(Parâmetros!G20)/1000000","v":6.7783448552390333E-6}]
[" Resultado Primário  RPPS (I – II)",{"$f":"B13-B15","v":-948860.68259999994},{"$f":"C13-C15","v":-900161.9225879896},{"$f":"B16/(Parâmetros!E20)/1000000","v":-2.1040653981749855E-6},{"$f":"E13-E15","v":-994891.20299999975},{"$f":"F13-F15","v":-900000},{"$f":"E16/(Parâmetros!F20)/1000000","v":-2.0172280119176632E-6},{"$f":"H13-H15","v":-1041452.1113004},{"$f":"I13-I15","v":-900000},{"$f":"H16/(Parâmetros!G20)/1000000","v":-1.9379281525464258E-6}]

{"sheet":"Metas PREF ","index":6,"n_rows":16,"n_cols":10,"rows_kept":16,"cut":false,"hidden":false,"merged":[[0,0,0,9],[1,0,1,9],[2,0,2,9],[3,0,3,9],[16,0,16,9],[7,0,10,0],[7,1,7,3],[7,4,7,6],[7,7,7,9],[4,0,4,9],[6,1,6,3],[6,4,6,6],[6,7,6,9]]}
[{"$f":"Parâmetros!A7","v":"Município de : Paverama"}]
["LEI DE DIRETRIZES ORÇAMENTÁRIAS"]
["ANEXO I - METAS FISCAIS"]
["DEMONSTRATIVO DAS METAS DE RESULTADO PRIMÁRIO (EXCLUÍDAS A RECEITAS E DESPESAS DO RPPS)"]
["EXERCÍCIO DE 2017"]
[]
["AMF - Demonstativo I (LRF, art. 4º, § 1º)",null,null,null,null,null,null,1]
["ESPECIFICAÇÃO",2017,null,null,{"$f":"B8+1","v":2018},null,null,{"$f":"E8+1","v":2019}]
[null,"Valor","Valor","% PIB","Valor","Valor","% PIB","Valor","Valor","% PIB"]
[null,"Corrente","Constante","(a / PIB)","Corrente","Constante","(b / PIB)","Corrente","Constante","(c / PIB)"]
[null,"(a)",null,"x 100","(b)",null,"x 100","(c)",null,"x 100"]
["  Receita Total ",{"$f":"Metas!B12 - MetasRPPS!B12","v":20236399.792075992},{"$f":"B12/(1+Parâmetros!E11)","v":19197798.873044293},{"$f":"B12/(Parâmetros!E20)/1000000","v":4.4873509216834073E-5},{"$f":"Metas!E12 - MetasRPPS!E12","v":22717608.079220206},{"$f":"E12/((1+Parâmetros!E11)*(1+Parâmetros!F11))","v":20550837.327383813},{"$f":"E12/(Parâmetros!F20)/1000000","v":4.6061916361290835E-5},{"$f":"Metas!H12 - MetasRPPS!H12","v":24340357.487151157},{"$f":"H12/((1+Parâmetros!E11)*(1+Parâmetros!F11)*(1+Parâmetros!G11))","v":21034401.390845429},{"$f":"H12/(Parâmetros!G20)/1000000","v":4.5292398474756724E-5}]
["  Receitas Primárias (I)",{"$f":"Metas!B13 - MetasRPPS!B13","v":20077536.381075993},{"$f":"B13/(1+Parâmetros!E11)","v":19047088.873044297},{"$f":"B13/(Parâmetros!E20)/1000000","v":4.4521235155688205E-5},{"$f":"Metas!E13 - MetasRPPS!E13","v":21848465.811092824},{"$f":"E13/((1+Parâmetros!E11)*(1+Parâmetros!F11))","v":19764592.520960849},{"$f":"E13/(Parâmetros!F20)/1000000","v":4.4299655197133965E-5},{"$f":"Metas!H13 - MetasRPPS!H13","v":24160385.937232964},{"$f":"H13/((1+Parâmetros!E11)*(1+Parâmetros!F11)*(1+Parâmetros!G11))","v":20878873.937236328},{"$f":"H13/(Parâmetros!G20)/1000000","v":4.4957508440486792E-5}]
[" Despesa Total ",{"$f":"Metas!B14 - MetasRPPS!B14","v":20043847.882996581},{"$f":"B14/(1+Parâmetros!E11)","v":19015129.38335697},{"$f":"B14/(Parâmetros!E20)/1000000","v":4.4446532088709865E-5},{"$f":"Metas!E14 - MetasRPPS!E14","v":22717608.079220206},{"$f":"E14/((1+Parâmetros!E11)*(1+Parâmetros!F11))","v":20550837.327383813},{"$f":"E14/(Parâmetros!F20)/1000000","v":4.6061916361290835E-5},{"$f":"Metas!H14 - MetasRPPS!H14","v":24340357.487151157},{"$f":"H14/((1+Parâmetros!E11)*(1+Parâmetros!F11)*(1+Parâmetros!G11))","v":21034401.390845429},{"$f":"H14/(Parâmetros!G20)/1000000","v":4.5292398474756724E-5}]
["Despesas Primárias  (II)",{"$f":"Metas!B15 - MetasRPPS!B15","v":19128281.078116581},{"$f":"B15/(1+Parâmetros!E11)","v":18146552.583356969},{"$f":"B15/(Parâmetros!E20)/1000000","v":4.2416294700659372E-5},{"$f":"Metas!E15 - MetasRPPS!E15","v":21656060.812628429},{"$f":"E15/((1+Parâmetros!E11)*(1+Parâmetros!F11))","v":19590538.817303814},{"$f":"E15/(Parâmetros!F20)/1000000","v":4.3909537412028421E-5},{"$f":"Metas!H15 - MetasRPPS!H15","v":23116562.444633789},{"$f":"H15/((1+Parâmetros!E11)*(1+Parâmetros!F11)*(1+Parâmetros!G11))","v":19976824.641694326},{"$f":"H15/(Parâmetros!G20)/1000000","v":4.3015167635136215E-5}]
[" Resultado Primário (I – II)",{"$f":"B13-B15","v":949255.30295941234},{"$f":"C13-C15","v":900536.28968732804},{"$f":"B16/(Parâmetros!E20)/1000000","v":2.1049404550288324E-6},{"$f":"E13-E15","v":192404.99846439436},{"$f":"F13-F15","v":174053.70365703478},{"$f":"E16/(Parâmetros!F20)/1000000","v":3.9011778510554519E-7},{"$f":"H13-H15","v":1043823.4925991744},{"$f":"I13-I15","v":902049.29554200172},{"$f":"H16/(Parâmetros!G20)/1000000","v":1.9423408053505752E-6}]

{"sheet":" Avaliação","index":7,"n_rows":18,"n_cols":7,"rows_kept":18,"cut":false,"hidden":false,"merged":[[4,0,4,6],[5,0,5,6],[0,0,0,6],[1,0,1,6],[2,0,2,6],[3,0,3,6],[18,0,18,6],[6,5,6,6],[7,0,9,0],[7,1,8,1],[7,2,8,2],[7,3,8,3],[7,4,8,4],[7,5,8,6],[6,0,6,1]]}
[{"$f":"Parâmetros!A7","v":"Município de : Paverama"}]
["LEI DE DIRETRIZES ORÇAMENTÁRIAS"]
["ANEXO I METAS FISCAIS"]
["DEMONSTRATIVO DA AVALIAÇÃO DO CUMPRIMENTO DAS METAS FISCAIS   DO EXERCÍCIO ANTERIOR                            "]
["EXERCÍCIO DE 2017"]
[]
["AMF - Demonstrativo II (LRF, art. 4º, §2º, inciso I)",null,null,null,null,1]
["ESPECIFICAÇÃO","I-Metas Previstas em","% PIB","II-Metas Realizadas em","% PIB","Variação "]
[]
[null,"2015 (a)",null,"2015 (b)",null,"Valor (c) = (b-a)","%               (c/a) x 100"]
["Receita Total",{"$f":"Plano!E58","v":24835000},{"$f":"B11/(Parâmetros!C20)/1000000","v":6.3314550133528044E-5},{"$f":"Plano!E29","v":20476629.780000001},{"$f":"D11/(Parâmetros!C20)/1000000","v":5.2203285797121132E-5},{"$f":"D11-B11","v":-4358370.2199999988},{"$f":"IF(B11=0,\"-\",(F11/B11))","v":-0.17549306301590492}]
["Receita Primárias (I)",{"$f":"B11-(Plano!E59+Plano!E60+Plano!E61+Plano!E62)","v":22817200},{"$f":"B12/(Parâmetros!C20)/1000000","v":5.8170354471783212E-5},{"$f":"D11-(Plano!E9+Plano!E21+Plano!E22+Plano!E23)","v":19115954.370000001},{"$f":"D12/(Parâmetros!C20)/1000000","v":4.8734368887038433E-5},-3701245.629999999,{"$f":"IF(B12=0,\"-\",(F12/B12))","v":-0.16221296346615707}]
["Despesa Total",{"$f":"Plano!E63","v":24835000},{"$f":"B13/(Parâmetros!C20)/1000000","v":6.3314550133528044E-5},{"$f":"Plano!E55","v":20227375.350000001},{"$f":"D13/(Parâmetros!C20)/1000000","v":5.1567834534619065E-5},-4607624.6499999985,-0.18552948057177365]
["Despesa Primárias (II)",{"$f":"B13-(Plano!E64+Plano!E65+Plano!E66)","v":23882000},{"$f":"B14/(Parâmetros!C20)/1000000","v":6.088496421537817E-5},{"$f":"D13-(Plano!E37+Plano!E48+Plano!E50)","v":19287455.640000001},{"$f":"D14/(Parâmetros!C20)/1000000","v":4.9171595613729751E-5},-4594544.3599999994,-0.1923852424420065]
["Resultado Primário (I–II)",{"$f":"B12-B14","v":-1064800},{"$f":"B15/(Parâmetros!C20)/1000000","v":-2.7146097435949531E-6},{"$f":"D12-D14","v":-171501.26999999955},{"$f":"D15/(Parâmetros!C20)/1000000","v":-4.3722672669131069E-7},893298.73000000045,-0.83893569684447822]
["Resultado Nominal",null,{"$f":"B16/(Parâmetros!C20)/1000000","v":0},{"$f":"Dívida!C12","v":-328564.23},{"$f":"D16/(Parâmetros!C20)/1000000","v":-8.3764430893573735E-7},-328564.23,"-"]
["Dívida Pública Consolidada ",null,{"$f":"B17/(Parâmetros!C20)/1000000","v":0},{"$f":"Dívida!C7","v":189610},{"$f":"D17/(Parâmetros!C20)/1000000","v":4.8339326961217045E-7},189610,"-"]
["Dívida Consolidada Líquida",null,{"$f":"B18/(Parâmetros!C20)/1000000","v":0},{"$f":"Dívida!C9","v":-1521300.02},{"$f":"D18/(Parâmetros!C20)/1000000","v":-3.8784145916821911E-6},-1521300.02,"-"]

{"sheet":"Comparação","index":8,"n_rows":30,"n_cols":12,"rows_kept":30,"cut":false,"hidden":false,"merged":[[6,0,6,1],[0,0,0,11],[1,0,1,11],[2,0,2,11],[3,0,3,11],[4,0,4,11],[5,0,5,11],[7,1,7,11],[8,0,9,0],[8,1,9,1],[8,2,9,2],[8,3,9,3],[8,4,9,4],[8,5,9,5],[8,6,9,6],[8,7,9,7],[8,8,9,8],[8,9,9,9],[8,10,9,10],[8,11,9,11],[18,0,18,11],[19,1,19,11],[20,6,21,6],[20,7,21,7],[30,0,30,11],[20,5,21,5],[20,8,21,8],[20,9,21,9],[20,10,21,10],[20,11,21,11],[20,0,21,0],[20,1,21,1],[20,2,21,2],[20,3,21,3],[20,4,21,4]]}
[{"$f":"Parâmetros!A7","v":"Município de : Paverama"}]
["LEI DE DIRETRIZES ORÇAMENTÁRIAS"]
["ANEXO I METAS FISCAIS"]
["DEMONSTRATIVO DE METAS FISCAIS ATUAIS COMPARADAS COM AS FIXADAS  NOS TRÊS EXERCÍCIOS ANTERIORES"]
["EXERCÍCIO DE 2017"]
[]
["AMF – Demonstrativo III (LRF, art.4º, §2º, inciso II)",null,null,null,null,null,null,null,null,null,null,1]
["ESPECIFICAÇÃO","VALORES A PREÇOS CORRENTES"]
[null,2014,{"$f":"B9+1","v":2015},"Variação %",{"$f":"C9+1","v":2016},"Variação %",{"$f":"E9+1","v":2017},"Variação %",{"$f":"G9+1","v":2018},"Variação%",{"$f":"I9+1","v":2019},"Variação %"]
[]
["     Receita Total ",{"$f":"Plano!D58","v":20750000},{"$f":"Plano!E58","v":24835000},{"$f":"IF(B11=0,\"0\",(C11/B11)-1)","v":0.19686746987951809},{"$f":"Plano!F58","v":22140000},{"$f":"IF(C11=0,\"0\",(E11/C11)-1)","v":-0.10851620696597541},{"$f":"IF(Metas!B12=0,\"0\",(Metas!B12))","v":23298164.032075994},{"$f":"IF(E11=0,\"0\",(G11/E11)-1)","v":5.2310931891417889E-2},{"$f":"IF(Metas!E12=0,\"0\",(Metas!E12))","v":26059122.457866635},{"$f":"IF(G11=0,\"-\",(I11/G11)-1)","v":0.11850540763596062},{"$f":"IF(Metas!H12=0,\"0\",(Metas!H12))","v":27983073.318145711},{"$f":"IF(I11=0,\"-\",(K11/I11)-1)","v":7.3830224459392024E-2}]
["Receitas Primárias (I)",{"$f":"B11-(Plano!D59+Plano!D60+Plano!D61+Plano!D62)","v":19979400},{"$f":"C11-(Plano!E59+Plano!E60+Plano!E61+Plano!E62)","v":22817200},0.14203629738630785,{"$f":"E11-(Plano!F59+Plano!F60+Plano!F61+Plano!F62)","v":20589600},-9.7628105113686137E-2,{"$f":"IF(Metas!B13=0,\"0\",(Metas!B13))","v":22190610.621075995},{"$f":"IF(E12=0,\"0\",(G12/E12)-1)","v":7.7758218764618858E-2},{"$f":"IF(Metas!E13=0,\"0\",(Metas!E13))","v":24195088.986739252},{"$f":"IF(G12=0,\"-\",(I12/G12)-1)","v":9.0330022904347773E-2},{"$f":"IF(Metas!H13=0,\"0\",(Metas!H13))","v":26761649.65692712},{"$f":"IF(I12=0,\"-\",(K12/I12)-1)","v":0.10607775286937526}]
["Despesa Total ",{"$f":"Plano!D63","v":20750000},{"$f":"Plano!E63","v":24835000},0.19686746987951809,{"$f":"Plano!F63","v":22140000},-0.10851620696597541,{"$f":"IF(Metas!B14=0,\"0\",(Metas!B14))","v":23105782.805596583},4.3621626269041647E-2,{"$f":"IF(Metas!E14=0,\"0\",(Metas!E14))","v":26059122.457866635},0.12781820365569718,{"$f":"IF(Metas!H14=0,\"0\",(Metas!H14))","v":27983073.318145711},7.3830224459392024E-2]
["Despesas Primárias (II)",{"$f":"B13-(Plano!D64+Plano!D65+Plano!D66)","v":19680000},{"$f":"C13-(Plano!E64+Plano!E65+Plano!E66)","v":23882000},0.21351626016260172,{"$f":"E13-(Plano!F64+Plano!F65+Plano!F66)","v":21364000},-0.10543505569047817,{"$f":"IF(Metas!B15=0,\"0\",(Metas!B15))","v":22190216.000716582},3.8673282190440972E-2,{"$f":"IF(Metas!E15=0,\"0\",(Metas!E15))","v":24997575.191274859},0.1265133782594825,{"$f":"IF(Metas!H15=0,\"0\",(Metas!H15))","v":26759278.275628343},7.0474958905949681E-2]
["Resultado Primário (I – II)",{"$f":"B12-B14","v":299400},{"$f":"C12-C14","v":-1064800},-4.556446225784903,{"$f":"E12-E14","v":-774400},-0.27272727272727271,{"$f":"IF(Metas!B16=0,\"0\",(Metas!B16))","v":394.62035941332579},-1.0005095820756886,{"$f":"IF(Metas!E16=0,\"0\",(Metas!E16))","v":-802486.20453560725},-0.56510000000000005,{"$f":"IF(Metas!H16=0,\"0\",(Metas!H16))","v":2371.381298776716},-1.0029550430716114]
["Resultado Nominal  ",835527.52,1620469,0.93945616536963383,377358,-0.76713038015537482,{"$f":"IF(Metas!B17=0,\"0\",(Metas!B17))","v":-484094.18333333335},-2.2828512535399632,{"$f":"IF(Metas!E17=0,\"0\",(Metas!E17))","v":531426.11555555556},-2.0977742221488969,{"$f":"IF(Metas!H17=0,\"0\",(Metas!H17))","v":-265919.34925925941},-1.500388184689166]
["Dívida Pública Consolidada",null,{"$f":"' Avaliação'!B17","v":0},"0",null,"0",{"$f":"IF(Metas!B18=0,\"0\",(Metas!B18))","v":525000},"0",{"$f":"IF(Metas!E18=0,\"0\",(Metas!E18))","v":1050000},1,{"$f":"IF(Metas!H18=0,\"0\",(Metas!H18))","v":700000},-0.33333333333333337]
["Dívida Consolidada Líquida",-1822744,-1520957,-0.16556740825919602,-960002,-0.36881713289724827,{"$f":"IF(Metas!B19=0,\"0\",(Metas!B19))","v":-940094.18333333335},-2.0737265825140572E-2,{"$f":"IF(Metas!E19=0,\"0\",(Metas!E19))","v":-408668.06777777779},-0.56529029216121152,{"$f":"IF(Metas!H19=0,\"0\",(Metas!H19))","v":-674587.4170370372},0.65069764492551174]
[]
["ESPECIFICAÇÃO","VALORES A PREÇOS CONSTANTES"]
[null,2014,{"$f":"B21+1","v":2015},"Variação %",{"$f":"C21+1","v":2016},"Variação %",{"$f":"E21+1","v":2017},"Variação %",{"$f":"G21+1","v":2018},"Variação %",{"$f":"I21+1","v":2019},"Variação %"]
[]
["     Receita Total ",{"$f":"B11*((1+Parâmetros!C11)*(1+Parâmetros!D11))","v":24642695.227500003},{"$f":"C11*(1+Parâmetros!D11)","v":26650438.5},{"$f":"IF(B23=0,\"-\",(C23/B23)-1)","v":8.1474175367776125E-2},{"$f":"E11","v":22140000},{"$f":"IF(C23=0,\"-\",(E23/C23)-1)","v":-0.16924443851083348},{"$f":"Metas!C12","v":22102422.950456306},{"$f":"IF(E23=0,\"-\",(G23/E23)-1)","v":-1.6972470435272502E-3},{"$f":"Metas!F12","v":23573643.169583812},{"$f":"IF(G23=0,\"-\",(I23/G23)-1)","v":6.656375287113625E-2},{"$f":"Metas!I12","v":24182356.263010889},{"$f":"IF(I23=0,\"-\",(K23/I23)-1)","v":2.5821765819060039E-2}]
["Receitas Primárias (I)",{"$f":"B12*((1+Parâmetros!C11)*(1+Parâmetros!D11))","v":23727530.844738003},{"$f":"C12*(1+Parâmetros!D11)","v":24485137.32},{"$f":"IF(B24=0,\"-\",(C24/B24)-1)","v":3.1929427474751693E-2},{"$f":"E12","v":20589600},{"$f":"IF(C24=0,\"-\",(E24/C24)-1)","v":-0.15909803849938142},{"$f":"Metas!C13","v":21051712.95045631},{"$f":"IF(E24=0,\"-\",(G24/E24)-1)","v":2.2443998448552271E-2},{"$f":"Metas!F13","v":21887398.363160849},{"$f":"IF(G24=0,\"-\",(I24/G24)-1)","v":3.9696789267042787E-2},{"$f":"Metas!I13","v":23126828.809401788},{"$f":"IF(I24=0,\"-\",(K24/I24)-1)","v":5.6627582030354562E-2}]
["Despesa Total ",{"$f":"B13*((1+Parâmetros!C11)*(1+Parâmetros!D11))","v":24642695.227500003},{"$f":"C13*(1+Parâmetros!D11)","v":26650438.5},8.1474175367776125E-2,{"$f":"E13","v":22140000},{"$f":"IF(C25=0,\"-\",(E25/C25)-1)","v":-0.16924443851083348},{"$f":"Metas!C14","v":21919915.38335697},-9.9405879242561168E-3,{"$f":"Metas!F14","v":23573643.169583812},7.5444077100884188E-2,{"$f":"Metas!I14","v":24182356.263010889},2.5821765819060039E-2]
["Despesas Primárias (II)",{"$f":"B14*((1+Parâmetros!C11)*(1+Parâmetros!D11))","v":23371963.4736},{"$f":"C14*(1+Parâmetros!D11)","v":25627774.199999999},9.6517809851451641E-2,{"$f":"E14","v":21364000},-0.1663731764891232,{"$f":"Metas!C15","v":21051338.583356969},-1.4634966141313988E-2,{"$f":"Metas!F15","v":22613344.659503814},7.4199845770461126E-2,{"$f":"Metas!I15","v":23124779.513859786},2.2616506406142323E-2]
["Resultado Primário (I – II)",{"$f":"B24-B26","v":355567.37113800272},{"$f":"C24-C26","v":-1142636.879999999},-4.2135594341600004,{"$f":"E24-E26","v":-774400},-0.32226938097779523,{"$f":"Metas!C16","v":374.36709934100509},-1.0004834285890249,{"$f":"Metas!F16","v":-725946.29634296522},0.4546,{"$f":"Metas!I16","v":2049.2955420017242},-1.0028229299499498]
["Resultado Nominal  ",{"$f":"B16*((1+Parâmetros!C11)*(1+Parâmetros!D11))","v":992272.29058067047},{"$f":"C16*(1+Parâmetros!D11)","v":1738925.2838999999},0.7524678461820129,{"$f":"E16","v":377358},-0.78299355153795058,{"$f":"Metas!C17","v":-459248.82205989311},-2.2170109605729653,{"$f":"Metas!F17","v":480739.50453856814},-2.0467952914550369,{"$f":"Metas!I17","v":-229801.65073024761},-1.4780169895769641]
["Dívida Pública Consolidada",{"$f":"B17*((1+Parâmetros!C11)*(1+Parâmetros!D11))","v":0},{"$f":"C17*(1+Parâmetros!D11)","v":0},"-",{"$f":"E17","v":0},"-",{"$f":"Metas!C18","v":498055.2129778958},"-",{"$f":"Metas!F18","v":949852.60413444426},0.90712310479641478,{"$f":"Metas!I18","v":604924.5982259867},-0.36313845370016551]
["Dívida Consolidada Líquida",{"$f":"B18*((1+Parâmetros!C11)*(1+Parâmetros!D11))","v":-2164690.35516888},{"$f":"C18*(1+Parâmetros!D11)","v":-1632138.9567},-0.24601735633793809,{"$f":"E18","v":-960002},-0.41181356154808335,{"$f":"Metas!C19","v":-891845.34990355116},-7.0996362608045427E-2,{"$f":"IF(Metas!F19=0,\"0\",(Metas!F19))","v":-369689.93181458459},-0.58547753615067366,{"$f":"IF(Metas!I19=0,\"0\",(Metas!I19))","v":-582963.60317062261},0.57689878193113442]

{"sheet":" Patrimônio","index":9,"n_rows":26,"n_cols":7,"rows_kept":26,"cut":false,"hidden":false,"merged":[[26,0,26,6],[5,0,5,6],[20,0,20,6],[19,0,19,6],[0,0,0,6],[1,0,1,6],[12,0,12,6],[13,0,13,6],[6,0,6,1],[2,0,2,6],[3,0,3,6],[4,0,4,6]]}
[{"$f":"Parâmetros!A7","v":"Município de : Paverama"}]
["LEI DE DIRETRIZES ORÇAMENTÁRIAS"]
["ANEXO I - METAS FISCAIS"]
["DEMONSTRATIVO DA EVOLUÇÃO DO PATRIMÔNIO LÍQUIDO"]
[" EXERCÍCIO DE 2017"]
[]
["AMF - Demonstrativo IV (LRF, art.4º, §2º, inciso III)",null,null,null,null,null,1]
["PATRIMÔNIO LÍQUIDO",2015,"%",{"$f":"B8-1","v":2014},"%",{"$f":"D8-1","v":2013},"%"]
["Patrimônio/Capital",11684185.470000001,{"$f":"IF(B12=0,\"-\",(B9/B12))","v":1},7231865.5300000003,{"$f":"IF(D12=0,\"-\",(D9/D12))","v":1},5038827.3,{"$f":"IF(F12=0,\"-\",(F9/F12))","v":1}]
["Reservas",null,{"$f":"IF(B12=0,\"-\",(B10/B12))","v":0},null,{"$f":"IF(D12=0,\"-\",(D10/D12))","v":0},null,{"$f":"IF(F12=0,\"-\",(F10/F12))","v":0}]
["Resultado Acumulado",null,{"$f":"IF(B12=0,\"-\",(B11/B12))","v":0},null,{"$f":"IF(D12=0,\"-\",(D11/D12))","v":0},null,{"$f":"IF(F12=0,\"-\",(F11/F12))","v":0}]
["TOTAL",{"$f":"SUM(B9:B11)","v":11684185.470000001},{"$f":"IF(B12=0,\"-\",(B12/B12))","v":1},{"$f":"SUM(D9:D11)","v":7231865.5300000003},{"$f":"IF(D12=0,\"-\",(D12/D12))","v":1},{"$f":"SUM(F9:F11)","v":5038827.3},{"$f":"IF(F12=0,\"-\",(F12/F12))","v":1}]
[]
["REGIME PREVIDENCIÁRIO"]
["PATRIMÔNIO LÍQUIDO",2015,"%",{"$f":"B15-1","v":2014},"%",{"$f":"D15-1","v":2013},"%"]
["Patrimônio/Capital",6740915.04,{"$f":"IF(B19=0,\"-\",(B16/B19))","v":1},6160503.1200000001,{"$f":"IF(D19=0,\"-\",(D16/D19))","v":1},6160503.1200000001,{"$f":"IF(F19=0,\"-\",(F16/F19))","v":1}]
["Reservas",null,{"$f":"IF(B19=0,\"-\",(B17/B19))","v":0},null,{"$f":"IF(D19=0,\"-\",(D17/D19))","v":0},null,{"$f":"IF(F19=0,\"-\",(F17/F19))","v":0}]
["Resultado Acumulado",null,{"$f":"IF(B19=0,\"-\",(B18/B19))","v":0},null,{"$f":"IF(D19=0,\"-\",(D18/D19))","v":0},null,{"$f":"IF(F19=0,\"-\",(F18/F19))","v":0}]
["TOTAL",{"$f":"SUM(B16:B18)","v":6740915.04},{"$f":"IF(B19=0,\"-\",(B19/B19))","v":1},{"$f":"SUM(D16:D18)","v":6160503.1200000001},{"$f":"IF(D19=0,\"-\",(D19/D19))","v":1},{"$f":"SUM(F16:F18)","v":6160503.1200000001},{"$f":"IF(F19=0,\"-\",(F19/F19))","v":1}]
[]
["CONSOLIDAÇÃO GERAL"]
["PATRIMÔNIO LÍQUIDO",2015,"%",{"$f":"B22-1","v":2014},"%",{"$f":"D22-1","v":2013},"%"]
["Patrimônio/Capital",{"$f":"B9+B16","v":18425100.510000002},{"$f":"IF(B26=0,\"-\",(B23/B26))","v":1},{"$f":"D9+D16","v":13392368.65},{"$f":"IF(D26=0,\"-\",(D23/D26))","v":1},{"$f":"F9+F16","v":11199330.42},{"$f":"IF(F26=0,\"-\",(F23/F26))","v":1}]
["Reservas",{"$f":"B10+B17","v":0},{"$f":"IF(B26=0,\"-\",(B24/B26))","v":0},{"$f":"D10+D17","v":0},{"$f":"IF(D26=0,\"-\",(D24/D26))","v":0},{"$f":"F10+F17","v":0},{"$f":"IF(F26=0,\"-\",(F24/F26))","v":0}]
["Resultado Acumulado",{"$f":"B11+B18","v":0},{"$f":"IF(B26=0,\"-\",(B25/B26))","v":0},{"$f":"D11+D18","v":0},{"$f":"IF(D26=0,\"-\",(D25/D26))","v":0},{"$f":"F11+F18","v":0},{"$f":"IF(F26=0,\"-\",(F25/F26))","v":0}]
["TOTAL",{"$f":"SUM(B23:B25)","v":18425100.510000002},{"$f":"IF(B26=0,\"-\",(B26/B26))","v":1},{"$f":"SUM(D23:D25)","v":13392368.65},{"$f":"IF(D26=0,\"-\",(D26/D26))","v":1},{"$f":"SUM(F23:F25)","v":11199330.42},{"$f":"IF(F26=0,\"-\",(F26/F26))","v":1}]

{"sheet":" Alienação","index":10,"n_rows":29,"n_cols":4,"rows_kept":29,"cut":false,"hidden":false,"merged":[[5,0,5,3],[0,0,0,3],[1,0,1,3],[2,0,2,3],[3,0,3,3],[4,0,4,3],[15,0,15,3],[27,0,28,0],[29,0,29,3],[16,0,17,0],[16,1,17,1],[16,2,17,2],[16,3,17,3]]}
[{"$f":"Parâmetros!A7","v":"Município de : Paverama"}]
["LEI DE DIRETRIZES ORÇAMENTÁRIAS"]
["ANEXO I - METAS FISCAIS"]
["DEMONSTRATIVO DA ORIGEM E APLICAÇÃO DOS RECURSOS OBTIDOS COM A ALIENAÇÃO DE ATIVOS"]
["EXERCÍCIO DE 2017 "]
[]
["AMF - Demonstrativo V (LRF, art.4º, §2º, inciso III)",null,null,1]
["RECEITAS REALIZADAS",2015,{"$f":"B8-1","v":2014},{"$f":"C8-1","v":2013}]
["SALDOS DE EXERCÍCIOS ANTERIORES A 2013",null,502.09,483.22]
["RECEITAS DE CAPITAL",{"$f":"B11","v":73000},{"$f":"C11","v":218220},{"$f":"D11","v":0}]
["    ALIENAÇÃO DE ATIVOS ",{"$f":"B12+B13","v":73000},{"$f":"C12+C13","v":218220},{"$f":"D12+D13","v":0}]
["        Alienação de Bens Móveis",73000,218220]
["        Alienação de Bens Imóveis"]
["Rendimento de Aplicações Financeira de Alienaç de Bens",255.57,491.76,18.87]
["TOTAL ",{"$f":"B12+B13+B14","v":73255.570000000007},{"$f":"C12+C13+C14","v":218711.76},{"$f":"D9+D12+D13+D14","v":502.09000000000003}]
[]
["DESPESAS  EXECUTADAS",2015,{"$f":"B17-1","v":2014},{"$f":"C17-1","v":2013}]
[]
["APLICAÇÃO DOS RECURSOS DA ALIENAÇÃO DE ATIVOS"]
["   DESPESAS DE CAPITAL",{"$f":"B21+B22+B23","v":58430.26},{"$f":"C21+C22+C23","v":205354.22999999998},{"$f":"D21+D22+D23","v":0}]
["         Investimentos",58430.26,81962.2]
["         Inversões Financeiras",null,123392.03]
["        Amortização da Dívida"]
["    DESPESAS CORRENTES DOS REGIMES DE PREVID.",{"$f":"B25+B26","v":0},{"$f":"C25+C26","v":0},{"$f":"D25+D26","v":0}]
["        Regime Geral de Previdência Social"]
["        Regime Próprio dos Servidores Públicos  "]
["TOTAL ",{"$f":"B20+B24","v":58430.26},{"$f":"C20+C24","v":205354.22999999998},{"$f":"D20+D24","v":0}]
["SALDO FINANCEIRO "]
[null,{"$f":"C29+B15-B27","v":28684.930000000029},{"$f":"D29+C15-C27","v":13859.620000000024},{"$f":"D15-D27","v":502.09000000000003}]

{"sheet":"RPPS-Financeiro","index":11,"n_rows":74,"n_cols":7,"rows_kept":74,"cut":false,"hidden":false,"merged":[[73,0,73,3],[74,0,74,6],[60,0,61,3],[60,4,61,4],[60,5,61,5],[60,6,61,6],[15,0,15,3],[0,0,0,6],[1,0,1,6],[2,0,2,6],[3,0,3,6],[4,0,4,6],[5,0,5,6],[6,0,6,3],[11,0,11,3],[7,0,8,3],[7,4,8,4],[7,5,8,5],[7,6,8,6],[10,0,10,3],[12,0,12,3],[13,0,13,3],[16,0,16,3],[17,0,17,3],[18,0,18,3],[20,0,20,3],[19,0,19,3],[30,0,30,3],[31,0,31,3],[33,0,33,3],[32,0,32,3],[21,0,21,3],[23,0,23,3],[26,0,26,3],[27,0,27,3],[29,0,29,3],[46,0,46,3],[35,0,35,3],[37,0,37,3],[36,0,36,3],[38,0,38,3],[40,0,41,3],[40,5,41,5],[40,6,41,6],[43,0,43,3],[44,0,44,3],[45,0,45,3],[40,4,41,4],[58,0,58,3],[53,0,53,3],[55,0,55,3],[56,0,56,3],[54,0,54,3],[47,0,47,3],[48,0,48,3],[49,0,49,3],[51,0,51,3],[50,0,50,3]]}
[{"$f":"Parâmetros!A7","v":"Município de : Paverama"}]
["LEI DE DIRETRIZES ORÇAMENTÁRIAS"]
["ANEXO DE  METAS FISCAIS"]
["RECEITAS E DESPESAS PREVIDENCIÁRIAS DO REGIME PRÓPRIO DE PREVIDÊNCIA DOS SERVIDORES"]
["EXERCÍCIO DE 2017"]
[]
["AMF - Demonstrativo VI (LRF, art.4º, §2º, inciso IV, alínea \"a\")",null,null,null,null,null,1]
["RECEITAS",null,null,null,2013,{"$f":"E8+1","v":2014},{"$f":"F8+1","v":2015}]
[]
["RECEITAS PREVIDENCIÁRIAS - RPPS (EXCETO INTRA-ORÇAMENTÁRIAS) (I)",null,null,null,{"$f":"E11+E21+E25","v":-126732.68},{"$f":"F11+F21+F25","v":1614138.53},{"$f":"G11+G21+G25","v":1221047.0299999998}]
["   RECEITAS CORRENTES",null,null,null,{"$f":"E12+E15+E16+E17+E18","v":-126732.68},{"$f":"F12+F15+F16+F17+F18","v":1614138.53},{"$f":"G12+G15+G16+G17+G18","v":1221047.0299999998}]
["      Receita de Contribuições dos Segurados",null,null,null,{"$f":"E13+E14","v":387404.32},{"$f":"F13+F14","v":438948.16},{"$f":"G13+G14","v":466252.67}]
["         Pessoal Civil",null,null,null,387404.32,438948.16,466252.67]
["         Pessoal Militar"]
["      Outras Receitas de Contribuições"]
["      Receita Patrimonial",null,null,null,-514137,983426.11,694351.69]
["      Receita de Serviços "]
["      Outras Receitas Correntes",null,null,null,{"$f":"E19+E20","v":0},191764.26,60442.67]
["         Compensação Previdenciária do RGPS para o RPPS"]
["         Outras Receitas Correntes"]
["   RECEITAS DE CAPITAL",null,null,null,{"$f":"E22+E23+E24","v":0},{"$f":"F22+F23+F24","v":0},{"$f":"G22+G23+G24","v":0}]
["      Alienação de Bens, Direitos e Ativos"]
["      Amortização de Empréstimos"]
["      Outras Receitas de Capital"]
["   (–) DEDUÇÕES DA RECEITA"]
["RECEITAS PREVIDENCIÁRIAS - RPPS (INTRA-ORÇAMENTÁRIAS) (II)",null,null,null,{"$f":"E27+E37+E38","v":877002.32},{"$f":"F27+F37+F38","v":1053918.55},{"$f":"G27+G37+G38","v":1182049.22}]
["   RECEITAS CORRENTES",null,null,null,{"$f":"E28+E34+E35+E36","v":877002.32},{"$f":"F28+F34+F35+F36","v":1053918.55},{"$f":"G28+G34+G35+G36","v":1182049.22}]
["      Receita de Contribuições",null,null,null,{"$f":"E29+E32+E33","v":877002.32},{"$f":"F29+F32+F33","v":1053918.55},{"$f":"G29+G32+G33","v":1182049.22}]
["         Patronal",null,null,null,{"$f":"E30+E31","v":877002.32},{"$f":"F30+F31","v":1053918.55},{"$f":"G30+G31","v":1182049.22}]
["            Pessoal Civil",null,null,null,877002.32,1053918.55,1182049.22]
["            Pessoal Militar"]
["         Cobertura de Déficit Atuarial"]
["         Regime de Débitos e Parcelamentos"]
["      Receita Patrimonial"]
["      Receita de Serviços "]
["      Outras Receitas Correntes"]
["   RECEITAS DE CAPITAL"]
["   (–) DEDUÇÕES DA RECEITA"]
["TOTAL DAS RECEITAS PREVIDENCIÁRIAS (III) = (I + II)",null,null,null,{"$f":"E10+E26","v":750269.6399999999},{"$f":"F10+F26","v":2668057.08},{"$f":"G10+G26","v":2403096.25}]
[]
["DESPESAS",null,null,null,2013,{"$f":"E41+1","v":2014},{"$f":"F41+1","v":2015}]
[]
["DESPESAS PREVIDENCIÁRIAS - RPPS (EXCETO INTRA-ORÇAMENTÁRIAS) (IV)",null,null,null,{"$f":"E44+E47","v":926107.95000000007},{"$f":"F44+F47","v":1099939.03},{"$f":"G44+G47","v":1426582.5999999999}]
["   ADMINISTRAÇÃO",null,null,null,{"$f":"E45+E46","v":19778.310000000001},{"$f":"F45+F46","v":8447.32},{"$f":"G45+G46","v":16887.96}]
["      Despesas Correntes",null,null,null,19778.310000000001,8447.32,16887.96]
["      Despesas de Capital"]
["   PREVIDÊNCIA",null,null,null,{"$f":"E48+E49+E50","v":906329.64},{"$f":"F48+F49+F50","v":1091491.71},{"$f":"G48+G49+G50","v":1409694.64}]
["      Pessoal Civil",null,null,null,906329.64,1091491.71,1409694.64]
["      Pessoal Militar   "]
["      Outras Despesas Previdenciárias",null,null,null,{"$f":"E51+E52","v":0},{"$f":"F51+F52","v":0},{"$f":"G51+G52","v":0}]
["         Compensação Previdenciária do RPPS para o RGPS"]
["         Demais Despesas Previdenciárias"]
["DESPESAS PREVIDENCIÁRIAS - RPPS (INTRA-ORÇAMENTÁRIAS) (V)",null,null,null,{"$f":"E54","v":0},{"$f":"F54","v":0},{"$f":"G54","v":0}]
["   ADMINISTRAÇÃO",null,null,null,{"$f":"E55+E56","v":0},{"$f":"F55+F56","v":0},{"$f":"G55+G56","v":0}]
["      Despesas Correntes"]
["      Despesas de Capital"]
["TOTAL DAS DESPESAS PREVIDENCIÁRIAS (VI) = (IV + V)",null,null,null,{"$f":"E43+E53","v":926107.95000000007},{"$f":"F43+F53","v":1099939.03},{"$f":"G43+G53","v":1426582.5999999999}]
[]
["RESULTADO PREVIDENCIÁRIO (VII) = (III – VI)",null,null,null,-175838.31,1568118.05,{"$f":"G39-G57","v":976513.65000000014}]
[]
["APORTES DE RECURSOS PARA O REGIME PRÓPRIO \nDE PREVIDÊNCIA DO SERVIDOR",null,null,null,2013,{"$f":"E61+1","v":2014},{"$f":"F61+1","v":2015}]
[]
["TOTAL DOS APORTES PARA O RPPS",null,null,null,{"$f":"E64+E68","v":0},{"$f":"F64+F68","v":0},{"$f":"G64+G68","v":0}]
["    Plano Financeiro",null,null,null,{"$f":"E65+E66+E67","v":0},{"$f":"F65+F66+F67","v":0},{"$f":"G65+G66+G67","v":0}]
["        Recursos para Cobertura de Insuficiências Financeiras"]
["        Recursos para Formação de Reserva"]
["        Outros Aportes para o RPPS"]
["    Plano Previdenciário",null,null,null,{"$f":"E69+E70+E71","v":0},{"$f":"F69+F70+F71","v":0},{"$f":"G69+G70+G71","v":0}]
["        Recursos para Cobertura de Déficit Financeiro"]
["        Recursos para Cobertura de Déficit Atuarial"]
["        Outros Aportes para o RPPS"]
[]
["RESERVA ORÇAMENTÁRIA DO RPPS"]
["BENS E DIREITOS DO RPPS",null,null,null,7199161.3499999996,8767279.4000000004,9744686.1199999992]

{"sheet":"RPPS-Atuarial","index":12,"n_rows":22,"n_cols":7,"rows_kept":22,"cut":false,"hidden":false,"merged":[[0,0,0,6],[1,0,1,6],[9,1,9,2],[9,4,9,5],[2,0,2,6],[3,0,3,6],[4,0,4,6],[7,1,7,2],[7,4,7,5],[17,1,17,2],[17,4,17,5],[11,1,11,2],[11,4,11,5],[12,1,12,2],[12,4,12,5],[13,4,13,5],[14,1,14,2],[14,4,14,5],[15,1,15,2],[15,4,15,5],[13,1,13,2],[16,1,16,2],[16,4,16,5],[20,1,20,2],[20,4,20,5],[18,1,18,2],[18,4,18,5],[19,1,19,2],[19,4,19,5]]}
[{"$f":"Parâmetros!A7","v":"Município de : Paverama"}]
["LEI DE DIRETRIZES ORÇAMENTÁRIAS"]
["ANEXO DE  METAS FISCAIS"]
["PROJEÇÃO ATUARIAL DO RPPS"]
["Exercíocio de 2017"]
[]
["AMF – Tabela 7 (LRF, art.4º, § 2º, inciso IV, alínea “a”)",null,null,null,null,null,1]
["EXERCÍCIO","RECEITAS PREVIDENCIÁRIAS",null,"DESPESAS PREVIDENCIÁRIAS","RESULTADO PREVIDENCIÁRIO",null,"SALDO FINANCEIRO "]
[null,null,null,null,null,null,"DO EXERCÍCIO"]
[null,"(a)",null,"(b)","(c) = (a-b)",null,"(d) = (d Exercício"]
[null,null,null,null,null,null,"anterior) + (c)"]
[2016,3062897.27,null,1220827.5,{"$f":"B12-D12","v":1842069.77},null,12174434.140000001]
[2017,3098697.49,null,1269364.6299999999,1829332.8600000003,null,{"$f":"G12+E13","v":14003767}]
[2018,3150110.2,null,1396912.05,1753198.1500000001,null,{"$f":"G13+E14","v":15756965.15}]
[2019,3205955.98,null,1527782,1678173.98,null,{"$f":"G14+E15","v":17435139.129999999}]
[2020,3333123.66,null,1682064.18,1651059.4800000002,null,{"$f":"G15+E16","v":19086198.609999999}]
[2021,3462807.02,null,1698252.95,1764554.07,null,{"$f":"G16+E17","v":20850752.68}]
[". . ."]
[". . ."]
[]
[]
["Fonte: Nota Técnica Atuarial nº 2863/15 elaborada por CSM Consultoria e Seguridade Municipal S/S em Abril/2015.    "]

{"sheet":"Renúncia","index":13,"n_rows":25,"n_cols":7,"rows_kept":25,"cut":false,"hidden":false,"merged":[[10,6,11,6],[0,0,0,5],[1,0,1,5],[2,0,2,5],[3,0,3,5],[7,6,9,6],[17,0,17,2],[4,0,4,5],[5,0,5,5],[7,0,9,0],[7,1,9,1],[7,2,9,2],[7,3,8,5]]}
[{"$f":"Parâmetros!A7","v":"Município de : Paverama"}]
["LEI DE DIRETRIZES ORÇAMENTÁRIAS"]
["ANEXO I - METAS FISCAIS"]
["DEMONSTRATIVO DA ESTIMATIVA E COMPENSAÇÃO DA RENÚNCIA DE RECEITA"]
["EXERCÍCIO DE 2017"]
[]
["AMF - Demonstrativo VIII (LRF, art. 4°, § 2°, inciso V)",null,null,null,null,null,1]
["TRIBUTO","MODALIDADE","SETORES/ PROGRAMAS/ BENEFICIÁRIO","RENÚNCIA DE RECEITA PREVISTA",null,null,"COMPENSAÇÃO"]
[]
[null,null,null,2017,{"$f":"D10+1","v":2018},{"$f":"E10+1","v":2019}]
["IPTU E TAXAS","Desconto","População",100000,{"$f":"D11*(1+B24)","v":104870},{"$f":"E11*(1+B25)","v":109777.916},"Desconto Pagamento a Vista IPTU e Taxas"]
[null,null,null,null,{"$f":"D12*(1+B24)","v":0},{"$f":"E12*(1+B25)","v":0}]
[null,null,null,null,{"$f":"D13*(1+B24)","v":0},{"$f":"E13*(1+B25)","v":0}]
[null,null,null,null,{"$f":"D14*(1+B24)","v":0},{"$f":"E14*(1+B25)","v":0}]
[null,null,null,null,{"$f":"D15*(1+B24)","v":0},{"$f":"E15*(1+B25)","v":0}]
[null,null,null,null,{"$f":"D16*(1+B24)","v":0},{"$f":"E16*(1+B25)","v":0}]
[null,null,null,null,{"$f":"D17*(1+B24)","v":0},{"$f":"E17*(1+B25)","v":0}]
["TOTAL",null,null,{"$f":"SUM(D11:D17)","v":100000},{"$f":"SUM(E11:E17)","v":104870},{"$f":"SUM(F11:F17)","v":109777.916},"          -"]
["F"]
["Obs:  1 -   Os valores da renúncia para 2017 foram previstos de acordo com informações do setor tributário"]
["da Prefeitura Municipal"]
["2 - Os valores da renúncia projetados para 2018 e 2019, foram claculados a partir dos valores de 2017, apli"]
["cando-se, sobre eles, as projeções de inflação para os referidos exercícios a saber:"]
["Inflação para 2018:",{"$f":"Parâmetros!F11","v":4.87E-2}]
["Inflação para 2019:",{"$f":"Parâmetros!G11","v":4.6800000000000001E-2}]

{"sheet":"DOCC","index":14,"n_rows":22,"n_cols":2,"rows_kept":22,"cut":false,"hidden":false,"merged":[[0,0,0,1],[1,0,1,1],[22,0,22,1],[2,0,2,1],[3,0,3,1],[4,0,4,1],[5,0,5,1]]}
[{"$f":"Parâmetros!A7","v":"Município de : Paverama"}]
["LEI DE DIRETRIZES ORÇAMENTÁRIAS"]
["ANEXO I - METAS FISCAIS"]
["DEMONSTRATIVO DA MARGEM DE EXPANSÃO DAS DESPESAS OBRIGATÓRIAS DE CARÁTER CONTINUADO  "]
["EXERCÍCIO DE 2017"]
[]
["AMF - Demonstrativo IX (LRF, art. 4°, § 2°, inciso V)",1]
["EVENTO","Valor Previsto 2017"]
["Aumento Permanente da Receita  ",{"$f":"(B10+B11)","v":1148517.8635803063}]
["   Decorrente de Receitas Tributárias",{"$f":"(Projeções!G10)/(1+Parâmetros!E11)-Projeções!F10","v":257667.7070486669}]
["   Decorrente de Transferências Correntes",{"$f":"Projeções!G22/(1+Parâmetros!E11)-Projeções!F22","v":890850.1565316394}]
["(-) Transferências Constitucionais",0]
["(-)  Transferências ao FUNDEB",{"$f":"Projeções!G33/(1+Parâmetros!E11)-Projeções!F33","v":-36237.220000000205}]
["Saldo Final do Aumento Permanente de Receita  (I)",{"$f":"B9+B13","v":1112280.6435803061}]
["Redução Permanente de Despesa (II)",0]
["Margem Bruta  (III) = (I+II)",{"$f":"B14+B15","v":1112280.6435803061}]
["Saldo Utilizado da Margem Bruta (IV)"]
["   Novas DOCC",{"$f":"B19+B20","v":738606.77355089597}]
["      Relativas a  Pessoal e Encargos Sociais",{"$f":"Projeções!G41/(1+Parâmetros!E11)-Projeções!F41","v":427500.3510103412}]
["      Relativas a  Outras Despesas Correntes",{"$f":"Projeções!G47/(1+Parâmetros!E11)-Projeções!F47","v":311106.42254055478}]
["   Novas DOCC geradas por PPP",0]
["Margem Líquida de Expansão de DOCC (V) = (III-IV)",{"$f":"IF(B16-B17-B18<0,\"SEM MARGEM\",B16-B17-B18)","v":373673.87002941011}]

{"sheet":"DOCC(alternativa)","index":15,"n_rows":21,"n_cols":2,"rows_kept":21,"cut":false,"hidden":false,"merged":[[4,0,4,1],[5,0,5,1],[20,0,20,1],[0,0,0,1],[1,0,1,1],[2,0,2,1],[3,0,3,1]]}
[{"$f":"Parâmetros!A7","v":"Município de : Paverama"}]
["LEI DE DIRETRIZES ORÇAMENTÁRIAS"]
["ANEXO I - METAS FISCAIS"]
["DEMONSTRATIVO DA MARGEM DE EXPANSÃO DAS DESPESAS OBRIGATÓRIAS DE CARÁTER CONTINUADO  "]
["EXERCÍCIO DE 2017"]
[]
["AMF - Demonstrativo IX (LRF, art. 4°, § 2°, inciso V)",1]
["EVENTO","Valor Previsto 2017"]
["Aumento Permanente da Receita  "]
["   Decorrente de Receitas Tributárias"]
["   Decorrente de Transferências Correntes"]
["(-)  Transferências ao FUNDEB"]
["Saldo Final do Aumento Permanente de Receita  (I)"]
["Redução Permanente de Despesa (II)"]
["Margem Bruta  (III) = (I+II)"]
["Saldo Utilizado da Margem Bruta (IV)"]
["   Impacto de Novas DOCC"]
["      Relativas a  Pessoal e Encargos Sociais"]
["      Relativas a  Outras Despesas Correntes"]
["Margem Líquida de Expansão de DOCC (III-IV)",{"$f":"IF(B15-B16-B17<0,\"SEM MARGEM\",B15-B16-B17)","v":0}]
["Fonte:"]

{"sheet":"Anexo Riscos","index":16,"n_rows":25,"n_cols":4,"rows_kept":25,"cut":false,"hidden":false,"merged":[[5,0,5,3],[0,0,0,3],[1,0,1,3],[2,0,2,3],[3,0,3,3],[4,0,4,3],[6,0,6,1],[6,2,6,3],[17,0,17,1],[17,2,17,3],[7,0,7,1],[7,2,7,3],[16,0,16,1],[16,2,16,3]]}
[{"$f":"Parâmetros!A7","v":"Município de : Paverama"}]
["LEI DE DIRETRIZES ORÇAMENTÁRIAS"]
["ANEXO DE RISCOS FISCAIS"]
["DEMONSTRATIVO DE RISCOS FISCAIS E PROVIDÊNCIAS"]
["EXERCÍCIO DE 2017"]
[]
["ARF (LRF, art 4o, § 3o)",null,1]
["PASSIVOS CONTINGENTES",null,"PROVIDÊNCIAS"]
["Descrição","Valor","Descrição","Valor"]
["Demandas Judiciais"]
["Dívidas em Processo de Reconhecimento"]
["Avais e Garantias Concedidas"]
["Assunção de Passivos"]
["Assistências Diversas"]
["Outros Passivos Contingentes"]
["SUBTOTAL",{"$f":"SUM(B10:B15)","v":0},"SUBTOTAL",{"$f":"SUM(D10:D15)","v":0}]
[]
["DEMAIS RISCOS FISCAIS PASSIVOS",null,"PROVIDÊNCIAS"]
["Descrição","Valor","Descrição","Valor"]
["Frustração de Arrecadação"]
["Restituição de Tributos a Maior"]
["Discrepância de Projeções:"]
["Outros Riscos Fiscais"]
["SUBTOTAL",{"$f":"SUM(B20:B23)","v":0},"SUBTOTAL",{"$f":"SUM(D20:D23)","v":0}]
["TOTAL",{"$f":"B16+B24","v":0},"TOTAL",{"$f":"D16+D24","v":0}]

{"sheet":"Anexo III - Metas e Prioridades","index":17,"n_rows":35,"n_cols":5,"rows_kept":35,"cut":false,"hidden":false,"merged":[[0,0,0,4],[1,0,1,4],[3,0,3,1],[4,0,4,1],[6,0,8,0],[6,2,8,2],[6,3,8,3],[9,0,10,0],[9,1,10,1],[9,2,10,2],[9,4,10,4],[11,0,12,0],[11,1,12,1],[11,2,12,2],[11,4,12,4],[13,0,14,0],[13,1,14,1],[13,2,14,2],[13,4,14,4],[15,0,16,0],[15,1,16,1],[15,2,16,2],[15,4,16,4],[17,0,18,0],[17,1,18,1],[17,2,18,2],[17,4,18,4],[19,0,20,0],[19,1,20,1],[19,2,20,2],[19,4,20,4],[21,0,22,0],[21,1,22,1],[21,2,22,2],[21,4,22,4],[23,0,24,0],[23,1,24,1],[23,2,24,2],[23,4,24,4],[25,4,26,4],[27,0,28,0],[27,1,28,1],[27,2,28,2],[27,4,28,4],[33,0,33,3],[31,0,32,0],[31,1,32,1],[31,2,32,2],[25,0,26,0],[25,1,26,1],[25,2,26,2],[31,4,32,4],[29,0,30,0],[29,1,30,1],[29,2,30,2],[29,4,30,4]]}
["LEI DE DIRETRIZES ORÇAMENTÁRIAS – 2017"]
["ANEXO  III -  METAS E PRIORIDADES"]
[]
["PROGRAMA: "]
["OBJETIVO: "]
[]
["TIPO (*)","Ação","Unidade de Medida"]
[null,null,null,null,2017]
[null,"Produto"]
[null,null,null,"Meta Física"]
[null,null,null,"Valor"]
[null,null,null,"Meta Física"]
[null,null,null,"Valor"]
[null,null,null,"Meta Física"]
[null,null,null,"Valor"]
[null,null,null,"Meta Física"]
[null,null,null,"Valor"]
[null,null,null,"Meta Física"]
[null,null,null,"Valor"]
[null,null,null,"Meta Física"]
[null,null,null,"Valor"]
[null,null,null,"Meta Física"]
[null,null,null,"Valor"]
[null,null,null,"Meta Física"]
[null,null,null,"Valor"]
[null,null,null,"Meta Física"]
[null,null,null,"Valor"]
[null,null,null,"Meta Física"]
[null,null,null,"Valor"]
[null,null,null,"Meta Física"]
[null,null,null,"Valor"]
[null,null,null,"Meta Física"]
[null,null,null,"Valor"]
["TOTAL DO PROGRAMA   =======================================è"]
["(*)  Tipo:  P – Projeto       A - Atividade ","OE – Operação Especial      NO – Não-orçamentária            "]

{"sheet":"Anexo IV - Consdo Patrimônio","index":18,"n_rows":27,"n_cols":12,"rows_kept":27,"cut":false,"hidden":false,"merged":[[7,11,8,11],[0,0,1,11],[2,0,2,11],[3,0,3,11],[4,0,4,11],[5,0,5,11],[6,0,6,1],[6,4,6,6],[6,7,6,11],[9,0,9,1],[9,8,9,10],[7,5,8,5],[7,6,8,6],[7,7,8,7],[7,0,8,1],[7,2,8,2],[7,8,8,10],[7,3,8,3],[7,4,8,4],[10,0,10,1],[10,8,10,10],[11,0,11,1],[11,8,11,10],[12,0,12,1],[12,8,12,10],[13,0,13,1],[13,8,13,10],[14,0,14,1],[14,8,14,10],[15,0,15,1],[15,8,15,10],[16,0,16,1],[16,8,16,10],[17,0,17,1],[17,8,17,10],[18,0,18,1],[18,8,18,10],[19,0,19,1],[19,8,19,10],[20,0,20,1],[20,8,20,10],[21,0,21,1],[21,8,21,10],[22,0,22,1],[22,8,22,10],[23,0,23,1],[23,8,23,10],[26,0,26,6],[26,8,26,10],[24,0,24,1],[24,8,24,10],[25,0,25,1],[25,8,25,10]]}
["MUNICÍPIO DE: "]
[]
["LEI DE DIRETRIZES ORÇAMENTÁRIAS - 2017"]
["ANEXO IV"]
["RELATÓRIO SOBRE PROJETOS EM EXECUÇÃO E A EXECUTAR   E DESPESAS COM CONSERVAÇÃO DO PATRIMÔNIO PÚBLICO "]
["(Art. 45 da LRF)"]
[null,null,null,null,"EXECUÇÃO %",null,null,"RECURSOS PRIORIZADOS PARA 2017"]
["IDENTIFICAÇÃO DAS AÇÕES",null,"INÍCIO DA EXECUÇÃO","VALOR DO PROJETO","ATÉ EXERC ANTERIOR - 2015","NO EXERCÍCIO DE 2016","A EXECUTAR EM 2017","PROJETOS EM EXECUÇÃO","CONSERVAÇÃO DO PATRIMÔNIO",null,null,"NOVOS PROJETOS"]
[]
[]
[]
[]
[]
[]
[]
[]
[]
[]
[]
[]
[]
[]
[]
[]
[]
[]
["Total dos Recursos a Priorizar",null,null,null,null,null,null,{"$f":"SUM(H10:H26)","v":0},0,null,null,{"$f":"SUM(L10:L26)","v":0}]